BEGIN:VCALENDAR
VERSION:2.0
PRODID:-//Lincolnshire Advanced Motorcyclists - ECPv6.15.20//NONSGML v1.0//EN
CALSCALE:GREGORIAN
METHOD:PUBLISH
X-ORIGINAL-URL:https://www.l-a-m.co.uk
X-WR-CALDESC:Events for Lincolnshire Advanced Motorcyclists
REFRESH-INTERVAL;VALUE=DURATION:PT1H
X-Robots-Tag:noindex
X-PUBLISHED-TTL:PT1H
BEGIN:VTIMEZONE
TZID:Europe/London
BEGIN:DAYLIGHT
TZOFFSETFROM:+0000
TZOFFSETTO:+0100
TZNAME:BST
DTSTART:20160327T010000
END:DAYLIGHT
BEGIN:STANDARD
TZOFFSETFROM:+0100
TZOFFSETTO:+0000
TZNAME:GMT
DTSTART:20161030T010000
END:STANDARD
BEGIN:DAYLIGHT
TZOFFSETFROM:+0000
TZOFFSETTO:+0100
TZNAME:BST
DTSTART:20170326T010000
END:DAYLIGHT
BEGIN:STANDARD
TZOFFSETFROM:+0100
TZOFFSETTO:+0000
TZNAME:GMT
DTSTART:20171029T010000
END:STANDARD
BEGIN:DAYLIGHT
TZOFFSETFROM:+0000
TZOFFSETTO:+0100
TZNAME:BST
DTSTART:20180325T010000
END:DAYLIGHT
BEGIN:STANDARD
TZOFFSETFROM:+0100
TZOFFSETTO:+0000
TZNAME:GMT
DTSTART:20181028T010000
END:STANDARD
BEGIN:DAYLIGHT
TZOFFSETFROM:+0000
TZOFFSETTO:+0100
TZNAME:BST
DTSTART:20190331T010000
END:DAYLIGHT
BEGIN:STANDARD
TZOFFSETFROM:+0100
TZOFFSETTO:+0000
TZNAME:GMT
DTSTART:20191027T010000
END:STANDARD
END:VTIMEZONE
BEGIN:VEVENT
DTSTART;TZID=Europe/London:20180408T090000
DTEND;TZID=Europe/London:20180408T130000
DTSTAMP:20260420T013920
CREATED:20180110T200945Z
LAST-MODIFIED:20180110T200945Z
UID:577-1523178000-1523192400@www.l-a-m.co.uk
SUMMARY:Monthly Group Ride
DESCRIPTION:Leaving promptly at 0930 hrs\, get there early for breakfast.
URL:https://www.l-a-m.co.uk/calendar/monthly-group-ride-8/
LOCATION:Willingham Woods\, LN8 3RQ\, United Kingdom
END:VEVENT
BEGIN:VEVENT
DTSTART;TZID=Europe/London:20180402T200000
DTEND;TZID=Europe/London:20180402T213000
DTSTAMP:20260420T013920
CREATED:20180110T195727Z
LAST-MODIFIED:20180110T195727Z
UID:567-1522699200-1522704600@www.l-a-m.co.uk
SUMMARY:Monthly Social Meeting
DESCRIPTION:
URL:https://www.l-a-m.co.uk/calendar/monthly-social-meeting-16/
LOCATION:Nags Head\, Middle Rasen\, Lincolnshire\, LN8 3JU\, United Kingdom
END:VEVENT
BEGIN:VEVENT
DTSTART;TZID=Europe/London:20180328T194500
DTEND;TZID=Europe/London:20180328T213000
DTSTAMP:20260420T013920
CREATED:20180110T203217Z
LAST-MODIFIED:20180110T203226Z
UID:591-1522266300-1522272600@www.l-a-m.co.uk
SUMMARY:Observers Meeting
DESCRIPTION:Meeting for Observers and those interested in becoming an Observer. For Observer information contact Jerry Neale on 07412 935333. 
URL:https://www.l-a-m.co.uk/calendar/observers-meeting-15/
LOCATION:LK2\, Deepdale Enterprise Park\, Nettleham\, LN2 2LL
END:VEVENT
BEGIN:VEVENT
DTSTART;TZID=Europe/London:20180311T093000
DTEND;TZID=Europe/London:20180311T130000
DTSTAMP:20260420T013920
CREATED:20180110T200642Z
LAST-MODIFIED:20180110T200642Z
UID:575-1520760600-1520773200@www.l-a-m.co.uk
SUMMARY:Monthly Group Ride
DESCRIPTION:Leaving promptly at 1000hrs so get there a little earlier.
URL:https://www.l-a-m.co.uk/calendar/monthly-group-ride-7/
LOCATION:Brigg Leisure Centre\, Scawby Rd\, Brigg\, Lincolnshire\, DN20 9JH\, United Kingdom
END:VEVENT
BEGIN:VEVENT
DTSTART;TZID=Europe/London:20180305T200000
DTEND;TZID=Europe/London:20180305T213000
DTSTAMP:20260420T013920
CREATED:20180110T194957Z
LAST-MODIFIED:20180110T195112Z
UID:563-1520280000-1520285400@www.l-a-m.co.uk
SUMMARY:Monthly Social Meeting
DESCRIPTION:
URL:https://www.l-a-m.co.uk/calendar/monthly-social-meeting-14/
LOCATION:Nags Head\, Middle Rasen\, Lincolnshire\, LN8 3JU\, United Kingdom
END:VEVENT
BEGIN:VEVENT
DTSTART;TZID=Europe/London:20180221T194500
DTEND;TZID=Europe/London:20180221T213000
DTSTAMP:20260420T013920
CREATED:20180110T202955Z
LAST-MODIFIED:20180220T163412Z
UID:589-1519242300-1519248600@www.l-a-m.co.uk
SUMMARY:Observers Meeting
DESCRIPTION:Meeting for Observers and those interested in becoming an Observer. For Observer information contact Jerry Neale on 07412 935333. 
URL:https://www.l-a-m.co.uk/calendar/observers-meeting-14/
LOCATION:LK2\, Deepdale Enterprise Park\, Nettleham\, LN2 2LL
END:VEVENT
BEGIN:VEVENT
DTSTART;TZID=Europe/London:20180212T194500
DTEND;TZID=Europe/London:20180212T210000
DTSTAMP:20260420T013920
CREATED:20180110T202350Z
LAST-MODIFIED:20180110T202359Z
UID:583-1518464700-1518469200@www.l-a-m.co.uk
SUMMARY:Committee Meeting
DESCRIPTION:
URL:https://www.l-a-m.co.uk/calendar/committee-meeting-13/
LOCATION:Nags Head\, Middle Rasen\, Lincolnshire\, LN8 3JU\, United Kingdom
END:VEVENT
BEGIN:VEVENT
DTSTART;TZID=Europe/London:20180211T113000
DTEND;TZID=Europe/London:20180211T150000
DTSTAMP:20260420T013920
CREATED:20180110T200332Z
LAST-MODIFIED:20180110T200332Z
UID:573-1518348600-1518361200@www.l-a-m.co.uk
SUMMARY:Monthly Group Ride
DESCRIPTION:Leaving at midday\, get there early for a cuppa.
URL:https://www.l-a-m.co.uk/calendar/monthly-group-ride-6/
LOCATION:Hartsholme Park\, Lincolnshire\, LN6 0EY\, United Kingdom
END:VEVENT
BEGIN:VEVENT
DTSTART;TZID=Europe/London:20180205T200000
DTEND;TZID=Europe/London:20180205T213000
DTSTAMP:20260420T013920
CREATED:20180110T195315Z
LAST-MODIFIED:20180110T195315Z
UID:565-1517860800-1517866200@www.l-a-m.co.uk
SUMMARY:Monthly Social Meeting
DESCRIPTION:
URL:https://www.l-a-m.co.uk/calendar/monthly-social-meeting-15/
LOCATION:Nags Head\, Middle Rasen\, Lincolnshire\, LN8 3JU\, United Kingdom
END:VEVENT
BEGIN:VEVENT
DTSTART;TZID=Europe/London:20171211T193000
DTEND;TZID=Europe/London:20171211T210000
DTSTAMP:20260420T013920
CREATED:20170831T092822Z
LAST-MODIFIED:20170831T092822Z
UID:533-1513020600-1513026000@www.l-a-m.co.uk
SUMMARY:Committee Meeting
DESCRIPTION:Starting at 1945hrs.
URL:https://www.l-a-m.co.uk/calendar/committee-meeting-12/
LOCATION:Nags Head\, Middle Rasen\, Lincolnshire\, LN8 3JU\, United Kingdom
END:VEVENT
BEGIN:VEVENT
DTSTART;TZID=Europe/London:20171204T200000
DTEND;TZID=Europe/London:20171204T213000
DTSTAMP:20260420T013920
CREATED:20170604T193139Z
LAST-MODIFIED:20170604T193139Z
UID:503-1512417600-1512423000@www.l-a-m.co.uk
SUMMARY:Christmas Monthly Social Meeting
DESCRIPTION:
URL:https://www.l-a-m.co.uk/calendar/christmas-monthly-social-meeting/
LOCATION:Nags Head\, Middle Rasen\, Lincolnshire\, LN8 3JU\, United Kingdom
END:VEVENT
BEGIN:VEVENT
DTSTART;TZID=Europe/London:20171112T093000
DTEND;TZID=Europe/London:20171112T133000
DTSTAMP:20260420T013920
CREATED:20170831T092350Z
LAST-MODIFIED:20170831T092350Z
UID:526-1510479000-1510493400@www.l-a-m.co.uk
SUMMARY:Monthly Group Ride
DESCRIPTION:1000hrs start. 
URL:https://www.l-a-m.co.uk/calendar/monthly-group-ride-4/
LOCATION:Brigg Leisure Centre\, Scawby Rd\, Brigg\, Lincolnshire\, DN20 9JH\, United Kingdom
END:VEVENT
BEGIN:VEVENT
DTSTART;TZID=Europe/London:20171106T200000
DTEND;TZID=Europe/London:20171106T213000
DTSTAMP:20260420T013920
CREATED:20170604T193038Z
LAST-MODIFIED:20170604T193038Z
UID:501-1509998400-1510003800@www.l-a-m.co.uk
SUMMARY:Monthly Social Meeting and Annual General Meeting
DESCRIPTION:
URL:https://www.l-a-m.co.uk/calendar/monthly-social-meeting-and-annual-general-meeting/
LOCATION:Nags Head\, Middle Rasen\, Lincolnshire\, LN8 3JU\, United Kingdom
END:VEVENT
BEGIN:VEVENT
DTSTART;TZID=Europe/London:20171024T193000
DTEND;TZID=Europe/London:20171024T213000
DTSTAMP:20260420T013920
CREATED:20170604T192149Z
LAST-MODIFIED:20171012T154254Z
UID:489-1508873400-1508880600@www.l-a-m.co.uk
SUMMARY:Barrie Heath Quiz
DESCRIPTION:Annual quiz night between Scunthorpe\, Grimsby and Lincoln Car Groups\, and Lincolnshire Advanced Motorcyclists. This year by Lincoln IAM. The quiz is held in memory of Barrie Heath\, founding member of the Scunthorpe group.
URL:https://www.l-a-m.co.uk/calendar/barrie-heath-quiz-3/
LOCATION:The Pride of LIncoln\, Kingsley Road\, Lincoln\, LN6 3QZ
END:VEVENT
BEGIN:VEVENT
DTSTART;TZID=Europe/London:20171009T193000
DTEND;TZID=Europe/London:20171009T210000
DTSTAMP:20260420T013920
CREATED:20170831T092701Z
LAST-MODIFIED:20170831T092701Z
UID:531-1507577400-1507582800@www.l-a-m.co.uk
SUMMARY:Committee Meeting
DESCRIPTION:Committee meeting starting at 1945hrs.
URL:https://www.l-a-m.co.uk/calendar/committee-meeting-11/
LOCATION:Nags Head\, Middle Rasen\, Lincolnshire\, LN8 3JU\, United Kingdom
END:VEVENT
BEGIN:VEVENT
DTSTART;TZID=Europe/London:20171008T093000
DTEND;TZID=Europe/London:20171008T133000
DTSTAMP:20260420T013920
CREATED:20170831T092230Z
LAST-MODIFIED:20170831T092230Z
UID:524-1507455000-1507469400@www.l-a-m.co.uk
SUMMARY:Monthly Group Ride
DESCRIPTION:Winter is coming do not leaving until 1000hrs. Get there early for a brew.
URL:https://www.l-a-m.co.uk/calendar/monthly-group-ride-3/
LOCATION:Hartsholme Park\, Lincolnshire\, LN6 0EY\, United Kingdom
END:VEVENT
BEGIN:VEVENT
DTSTART;TZID=Europe/London:20171002T200000
DTEND;TZID=Europe/London:20171002T213000
DTSTAMP:20260420T013920
CREATED:20170604T192922Z
LAST-MODIFIED:20170604T192922Z
UID:499-1506974400-1506979800@www.l-a-m.co.uk
SUMMARY:Monthly Social Meeting
DESCRIPTION:
URL:https://www.l-a-m.co.uk/calendar/monthly-social-meeting-13/
LOCATION:Nags Head\, Middle Rasen\, Lincolnshire\, LN8 3JU\, United Kingdom
END:VEVENT
BEGIN:VEVENT
DTSTART;TZID=Europe/London:20170910T090000
DTEND;TZID=Europe/London:20170910T130000
DTSTAMP:20260420T013920
CREATED:20170831T091959Z
LAST-MODIFIED:20170831T092058Z
UID:521-1505034000-1505048400@www.l-a-m.co.uk
SUMMARY:Monthly Group Ride
DESCRIPTION:Leaving at 0930 so get there early if you want a brew.
URL:https://www.l-a-m.co.uk/calendar/monthly-group-ride-2/
LOCATION:Willingham Woods\, LN8 3RQ\, United Kingdom
END:VEVENT
BEGIN:VEVENT
DTSTART;TZID=Europe/London:20170904T200000
DTEND;TZID=Europe/London:20170904T213000
DTSTAMP:20260420T013920
CREATED:20170604T192830Z
LAST-MODIFIED:20170604T192830Z
UID:497-1504555200-1504560600@www.l-a-m.co.uk
SUMMARY:Monthly Social Meeting
DESCRIPTION:
URL:https://www.l-a-m.co.uk/calendar/monthly-social-meeting-12/
LOCATION:Nags Head\, Middle Rasen\, Lincolnshire\, LN8 3JU\, United Kingdom
END:VEVENT
BEGIN:VEVENT
DTSTART;TZID=Europe/London:20170903T080000
DTEND;TZID=Europe/London:20170903T180000
DTSTAMP:20260420T013920
CREATED:20170831T093144Z
LAST-MODIFIED:20170831T093144Z
UID:535-1504425600-1504461600@www.l-a-m.co.uk
SUMMARY:Ride out to Duxford Imperial War Museum
DESCRIPTION:Phil Niner has organised a ride out to Duxford. Let him know if you want to go. philniner67@gmail.com \nMeet in the Friendly Farmer Café car park\, Newark at 0730hrs for 0800hrs prompt departure. Spend the day in the museum\, restarant and café on the premises. Reduction for OAP’s. (Lol!)  
URL:https://www.l-a-m.co.uk/calendar/ride-out-to-duxford-imperial-war-museum/
LOCATION:Lincolnshire
END:VEVENT
BEGIN:VEVENT
DTSTART;TZID=Europe/London:20170831T113000
DTEND;TZID=Europe/London:20170831T143000
DTSTAMP:20260420T013920
CREATED:20170831T092509Z
LAST-MODIFIED:20170831T092509Z
UID:528-1504179000-1504189800@www.l-a-m.co.uk
SUMMARY:Monthly Group Ride
DESCRIPTION:Winter is really here now so leaving at 1200hrs. Arrive early for a brew.
URL:https://www.l-a-m.co.uk/calendar/monthly-group-ride-5/
LOCATION:Willingham Woods\, LN8 3RQ\, United Kingdom
END:VEVENT
BEGIN:VEVENT
DTSTART;TZID=Europe/London:20170830T193000
DTEND;TZID=Europe/London:20170830T210000
DTSTAMP:20260420T013920
CREATED:20170604T193801Z
LAST-MODIFIED:20170604T193801Z
UID:510-1504121400-1504126800@www.l-a-m.co.uk
SUMMARY:Observers Meeting
DESCRIPTION:Meeting for Observers and those interested in becoming Observers Venue\, LK2 Offices\, Deepdale Enterprise Park\, Nettleham LN2 2LL at 7.45pm For information contact Jerry Neale  07885 494607
URL:https://www.l-a-m.co.uk/calendar/observers-meeting-13/
LOCATION:LK2\, Deepdale Enterprise Park\, Nettleham\, LN2 2LL
END:VEVENT
BEGIN:VEVENT
DTSTART;TZID=Europe/London:20170813T090000
DTEND;TZID=Europe/London:20170813T130000
DTSTAMP:20260420T013920
CREATED:20170604T193935Z
LAST-MODIFIED:20170604T193935Z
UID:512-1502614800-1502629200@www.l-a-m.co.uk
SUMMARY:Group Ride
DESCRIPTION:Leaving at 0930 so get there early.
URL:https://www.l-a-m.co.uk/calendar/group-ride-5/
LOCATION:Brigg Leisure Centre\, Scawby Rd\, Brigg\, Lincolnshire\, DN20 9JH\, United Kingdom
END:VEVENT
BEGIN:VEVENT
DTSTART;TZID=Europe/London:20170807T200000
DTEND;TZID=Europe/London:20170807T213000
DTSTAMP:20260420T013920
CREATED:20170604T192739Z
LAST-MODIFIED:20170604T192739Z
UID:495-1502136000-1502141400@www.l-a-m.co.uk
SUMMARY:Monthly Social Meeting
DESCRIPTION:
URL:https://www.l-a-m.co.uk/calendar/monthly-social-meeting-11/
LOCATION:Nags Head\, Middle Rasen\, Lincolnshire\, LN8 3JU\, United Kingdom
END:VEVENT
BEGIN:VEVENT
DTSTART;TZID=Europe/London:20170726T193000
DTEND;TZID=Europe/London:20170726T210000
DTSTAMP:20260420T013920
CREATED:20170604T193528Z
LAST-MODIFIED:20170604T193640Z
UID:505-1501097400-1501102800@www.l-a-m.co.uk
SUMMARY:Observers Meeting
DESCRIPTION:Meeting for Observers and those interested in becoming Observers Venue\, LK2 Offices\, Deepdale Enterprise Park\, Nettleham LN2 2LL at 7.45pm For information contact Jerry Neale  07885 494607
URL:https://www.l-a-m.co.uk/calendar/505/
LOCATION:LK2\, Deepdale Enterprise Park\, Nettleham\, LN2 2LL
END:VEVENT
BEGIN:VEVENT
DTSTART;TZID=Europe/London:20170709T090000
DTEND;TZID=Europe/London:20170709T130000
DTSTAMP:20260420T013920
CREATED:20170604T192607Z
LAST-MODIFIED:20170604T192607Z
UID:493-1499590800-1499605200@www.l-a-m.co.uk
SUMMARY:Group Ride
DESCRIPTION:Leaving at 0930\, get there early if you want bacon buttie and tea. \nMeet in front of the cafe.
URL:https://www.l-a-m.co.uk/calendar/group-ride-4/
LOCATION:Hartsholme Park\, Lincolnshire\, LN6 0EY\, United Kingdom
END:VEVENT
BEGIN:VEVENT
DTSTART;TZID=Europe/London:20170703T200000
DTEND;TZID=Europe/London:20170703T213000
DTSTAMP:20260420T013920
CREATED:20170604T191445Z
LAST-MODIFIED:20170604T191445Z
UID:487-1499112000-1499117400@www.l-a-m.co.uk
SUMMARY:Monthly Social Meeting
DESCRIPTION:
URL:https://www.l-a-m.co.uk/calendar/monthly-social-meeting-10/
LOCATION:Nags Head\, Middle Rasen\, Lincolnshire\, LN8 3JU\, United Kingdom
END:VEVENT
BEGIN:VEVENT
DTSTART;TZID=Europe/London:20170628T194500
DTEND;TZID=Europe/London:20170628T213000
DTSTAMP:20260420T013920
CREATED:20170411T211801Z
LAST-MODIFIED:20170625T211457Z
UID:457-1498679100-1498685400@www.l-a-m.co.uk
SUMMARY:Observers Meeting
DESCRIPTION:Meeting for Observers and those interested in becoming Observers\nVenue – LK2 Architects Ltd\nStudio 2\, Deepdale Enterprise Park\nNettleham\nLincoln\nLN2 2LL 
URL:https://www.l-a-m.co.uk/calendar/observers-meeting-12/
LOCATION:LK2\, Deepdale Enterprise Park\, Nettleham\, LN2 2LL
END:VEVENT
BEGIN:VEVENT
DTSTART;TZID=Europe/London:20170618T093000
DTEND;TZID=Europe/London:20170618T130000
DTSTAMP:20260420T013920
CREATED:20170411T212059Z
LAST-MODIFIED:20170601T212212Z
UID:461-1497778200-1497790800@www.l-a-m.co.uk
SUMMARY:Group Ride
DESCRIPTION:Leaving at 0930\, get there early if you want bacon buttie and tea.
URL:https://www.l-a-m.co.uk/calendar/group-ride-3/
LOCATION:Willingham Woods\, LN8 3RQ\, United Kingdom
END:VEVENT
BEGIN:VEVENT
DTSTART;TZID=Europe/London:20170611T100000
DTEND;TZID=Europe/London:20170611T170000
DTSTAMP:20260420T013920
CREATED:20170411T212236Z
LAST-MODIFIED:20170411T212243Z
UID:463-1497175200-1497200400@www.l-a-m.co.uk
SUMMARY:Lincoln BikeFest
DESCRIPTION:Once again we will be at Lincoln Bike Fest\, come along and see us if you are interested in Advanced Biking.
URL:https://www.l-a-m.co.uk/calendar/lincoln-bikefest-2/
LOCATION:Brayford Pool\, Lincoln
END:VEVENT
END:VCALENDAR