BEGIN:VCALENDAR
VERSION:2.0
PRODID:-//Lincolnshire Advanced Motorcyclists - ECPv6.15.20//NONSGML v1.0//EN
CALSCALE:GREGORIAN
METHOD:PUBLISH
X-WR-CALNAME:Lincolnshire Advanced Motorcyclists
X-ORIGINAL-URL:https://www.l-a-m.co.uk
X-WR-CALDESC:Events for Lincolnshire Advanced Motorcyclists
REFRESH-INTERVAL;VALUE=DURATION:PT1H
X-Robots-Tag:noindex
X-PUBLISHED-TTL:PT1H
BEGIN:VTIMEZONE
TZID:Europe/London
BEGIN:DAYLIGHT
TZOFFSETFROM:+0000
TZOFFSETTO:+0100
TZNAME:BST
DTSTART:20150329T010000
END:DAYLIGHT
BEGIN:STANDARD
TZOFFSETFROM:+0100
TZOFFSETTO:+0000
TZNAME:GMT
DTSTART:20151025T010000
END:STANDARD
BEGIN:DAYLIGHT
TZOFFSETFROM:+0000
TZOFFSETTO:+0100
TZNAME:BST
DTSTART:20160327T010000
END:DAYLIGHT
BEGIN:STANDARD
TZOFFSETFROM:+0100
TZOFFSETTO:+0000
TZNAME:GMT
DTSTART:20161030T010000
END:STANDARD
BEGIN:DAYLIGHT
TZOFFSETFROM:+0000
TZOFFSETTO:+0100
TZNAME:BST
DTSTART:20170326T010000
END:DAYLIGHT
BEGIN:STANDARD
TZOFFSETFROM:+0100
TZOFFSETTO:+0000
TZNAME:GMT
DTSTART:20171029T010000
END:STANDARD
END:VTIMEZONE
BEGIN:VEVENT
DTSTART;TZID=Europe/London:20161212T194500
DTEND;TZID=Europe/London:20161212T213000
DTSTAMP:20260420T084332
CREATED:20160930T195743Z
LAST-MODIFIED:20160930T200116Z
UID:417-1481571900-1481578200@www.l-a-m.co.uk
SUMMARY:Committee Meeting
DESCRIPTION:
URL:https://www.l-a-m.co.uk/calendar/committee-meeting-9/
LOCATION:Nags Head\, Middle Rasen\, Lincolnshire\, LN8 3JU\, United Kingdom
END:VEVENT
BEGIN:VEVENT
DTSTART;TZID=Europe/London:20161211T113000
DTEND;TZID=Europe/London:20161211T150000
DTSTAMP:20260420T084332
CREATED:20160930T194257Z
LAST-MODIFIED:20160930T194257Z
UID:409-1481455800-1481468400@www.l-a-m.co.uk
SUMMARY:Group Observed Ride
DESCRIPTION:Meet at 1130 for 1200 start. Note later time due to winter months and chance for frost/ice to clear (if any). \nThe Sunday morning Group Observed and Social Runs are open to all members and also potential members who may be considering preparing for the IAM test.  The prime purpose is to provide the opportunity for all to improve their skills through riding with fellow members.  Potential members considering taking the IAM test may have an individual assessment ride.  It should be noted that members are free to group up as they feel fit and embark on a purely social run of their choice without any “observing” etc\, merely enjoying the opportunity to ride with fellow like-minded bikers.  The runs last around 2-3 hours\, usually with a mid-point refreshment stop
URL:https://www.l-a-m.co.uk/calendar/group-observed-ride-6/
LOCATION:Hartsholme Park\, Lincolnshire\, LN6 0EY\, United Kingdom
END:VEVENT
BEGIN:VEVENT
DTSTART;TZID=Europe/London:20161205T200000
DTEND;TZID=Europe/London:20161205T220000
DTSTAMP:20260420T084332
CREATED:20160930T195427Z
LAST-MODIFIED:20160930T195427Z
UID:415-1480968000-1480975200@www.l-a-m.co.uk
SUMMARY:Christmas Social Meeting
DESCRIPTION:Christmas Social Meeting including quiz\, raffle and buffet.
URL:https://www.l-a-m.co.uk/calendar/christmas-social-meeting/
LOCATION:Nags Head\, Middle Rasen\, Lincolnshire\, LN8 3JU\, United Kingdom
END:VEVENT
BEGIN:VEVENT
DTSTART;TZID=Europe/London:20161113T093000
DTEND;TZID=Europe/London:20161113T130000
DTSTAMP:20260420T084332
CREATED:20160930T194049Z
LAST-MODIFIED:20160930T194109Z
UID:408-1479029400-1479042000@www.l-a-m.co.uk
SUMMARY:Group Observed Ride
DESCRIPTION:Meet at 0930 for a 1000 start. \nThe Sunday morning Group Observed and Social Runs are open to all members and also potential members who may be considering preparing for the IAM test.  The prime purpose is to provide the opportunity for all to improve their skills through riding with fellow members.  Potential members considering taking the IAM test may have an individual assessment ride.  It should be noted that members are free to group up as they feel fit and embark on a purely social run of their choice without any “observing” etc\, merely enjoying the opportunity to ride with fellow like-minded bikers.  The runs last around 2-3 hours\, usually with a mid-point refreshment stop
URL:https://www.l-a-m.co.uk/calendar/group-observer-ride-2/
LOCATION:Willingham Woods\, LN8 3RQ\, United Kingdom
END:VEVENT
BEGIN:VEVENT
DTSTART;TZID=Europe/London:20161107T200000
DTEND;TZID=Europe/London:20161107T220000
DTSTAMP:20260420T084332
CREATED:20160930T195259Z
LAST-MODIFIED:20160930T195259Z
UID:414-1478548800-1478556000@www.l-a-m.co.uk
SUMMARY:Monthly Social Meeting and AGM
DESCRIPTION:Come along for a chat and the Annual General Meeting.
URL:https://www.l-a-m.co.uk/calendar/monthly-social-meeting-and-agm-2/
LOCATION:Nags Head\, Middle Rasen\, Lincolnshire\, LN8 3JU\, United Kingdom
END:VEVENT
BEGIN:VEVENT
DTSTART;TZID=Europe/London:20161106T090000
DTEND;TZID=Europe/London:20161106T170000
DTSTAMP:20260420T084332
CREATED:20160930T195038Z
LAST-MODIFIED:20160930T195128Z
UID:413-1478422800-1478451600@www.l-a-m.co.uk
SUMMARY:Sheffield Peaks Ride Out
DESCRIPTION:Ian Morrsion’s now annual ride to the Peaks and a pub lunch. A great ride and worth joining in\, Contact Ian for more details – 07766008100
URL:https://www.l-a-m.co.uk/calendar/sheffield-peaks-ride-out/
LOCATION:Lincolnshire
END:VEVENT
BEGIN:VEVENT
DTSTART;TZID=Europe/London:20161030T100000
DTEND;TZID=Europe/London:20161030T123000
DTSTAMP:20260420T084332
CREATED:20160930T200320Z
LAST-MODIFIED:20160930T200320Z
UID:418-1477821600-1477830600@www.l-a-m.co.uk
SUMMARY:Observers Meeting
DESCRIPTION:Change this month to the Observers Meeting as it clashed with the Barrie Heath Quiz and this gives a chance for some on road training.
URL:https://www.l-a-m.co.uk/calendar/observers-meeting-9/
LOCATION:Nags Head\, Middle Rasen\, Lincolnshire\, LN8 3JU\, United Kingdom
END:VEVENT
BEGIN:VEVENT
DTSTART;TZID=Europe/London:20161026T200000
DTEND;TZID=Europe/London:20161026T220000
DTSTAMP:20260420T084332
CREATED:20160930T194733Z
LAST-MODIFIED:20160930T194733Z
UID:412-1477512000-1477519200@www.l-a-m.co.uk
SUMMARY:Barrie Heath Quiz
DESCRIPTION:We are hosting/providing quiz this year so supporters would be appreciated.
URL:https://www.l-a-m.co.uk/calendar/barrie-heath-quiz-2/
LOCATION:Redbourne Club\, Cemetary Road\, Scunthorpe
END:VEVENT
BEGIN:VEVENT
DTSTART;TZID=Europe/London:20161009T100000
DTEND;TZID=Europe/London:20161009T130000
DTSTAMP:20260420T084332
CREATED:20160930T193922Z
LAST-MODIFIED:20160930T194610Z
UID:407-1476007200-1476018000@www.l-a-m.co.uk
SUMMARY:Group Observed Ride
DESCRIPTION:Meet at 0930 for a 1000 start. \nThe Sunday morning Group Observed and Social Runs are open to all members and also potential members who may be considering preparing for the IAM test.  The prime purpose is to provide the opportunity for all to improve their skills through riding with fellow members.  Potential members considering taking the IAM test may have an individual assessment ride.  It should be noted that members are free to group up as they feel fit and embark on a purely social run of their choice without any “observing” etc\, merely enjoying the opportunity to ride with fellow like-minded bikers.  The runs last around 2-3 hours\, usually with a mid-point refreshment stop
URL:https://www.l-a-m.co.uk/calendar/group-observer-ride/
LOCATION:Brigg Leisure Centre\, Scawby Rd\, Brigg\, Lincolnshire\, DN20 9JH\, United Kingdom
END:VEVENT
BEGIN:VEVENT
DTSTART;TZID=Europe/London:20161003T200000
DTEND;TZID=Europe/London:20161003T220000
DTSTAMP:20260420T084332
CREATED:20160930T193448Z
LAST-MODIFIED:20160930T193614Z
UID:406-1475524800-1475532000@www.l-a-m.co.uk
SUMMARY:Monthly Social Meeting
DESCRIPTION:
URL:https://www.l-a-m.co.uk/calendar/monthly-social-meeting-7/
LOCATION:Nags Head\, Middle Rasen\, Lincolnshire\, LN8 3JU\, United Kingdom
END:VEVENT
BEGIN:VEVENT
DTSTART;TZID=Europe/London:20160911T100000
DTEND;TZID=Europe/London:20160911T160000
DTSTAMP:20260420T084332
CREATED:20160731T103013Z
LAST-MODIFIED:20160813T113856Z
UID:388-1473588000-1473609600@www.l-a-m.co.uk
SUMMARY:Skills Day
DESCRIPTION:We are holding a skills day on 11 Sep. There will be a slow riding course including prize for the slowest around the course\, the opportunity have a ride with one of our Observers with tips on how to improve (if needed) your riding. There will also be some bike related stands including All Year Biker\, Mobile Tyre fitting and suspension setup. Free coffee and cake also available at the Sentry Post Cafe.
URL:https://www.l-a-m.co.uk/calendar/skills-day/
LOCATION:Waddington Airfield Viewing Enclosure\, A15\,  LN5 9FG  
END:VEVENT
BEGIN:VEVENT
DTSTART;TZID=Europe/London:20160831T190000
DTEND;TZID=Europe/London:20160831T213000
DTSTAMP:20260420T084332
CREATED:20160325T200050Z
LAST-MODIFIED:20160325T200118Z
UID:344-1472670000-1472679000@www.l-a-m.co.uk
SUMMARY:Observers Meeting
DESCRIPTION:Meeting for Observers and those interested in becoming an Observer.
URL:https://www.l-a-m.co.uk/calendar/observers-meeting-8/
LOCATION:Nags Head\, Middle Rasen\, Lincolnshire\, LN8 3JU\, United Kingdom
END:VEVENT
BEGIN:VEVENT
DTSTART;TZID=Europe/London:20160808T194500
DTEND;TZID=Europe/London:20160808T213000
DTSTAMP:20260420T084332
CREATED:20160325T195932Z
LAST-MODIFIED:20160325T195932Z
UID:343-1470685500-1470691800@www.l-a-m.co.uk
SUMMARY:Committee Meeting
DESCRIPTION:
URL:https://www.l-a-m.co.uk/calendar/committee-meeting-7/
LOCATION:Nags Head\, Middle Rasen\, Lincolnshire\, LN8 3JU\, United Kingdom
END:VEVENT
BEGIN:VEVENT
DTSTART;TZID=Europe/London:20160807T090000
DTEND;TZID=Europe/London:20160807T130000
DTSTAMP:20260420T084332
CREATED:20160325T195513Z
LAST-MODIFIED:20160325T195608Z
UID:342-1470560400-1470574800@www.l-a-m.co.uk
SUMMARY:Group Observed Ride
DESCRIPTION:The Sunday morning Group Observed and Social Runs are open to all members and also potential members who may be considering preparing for the IAM test.  The prime purpose is to provide the opportunity for all to improve their skills through riding with fellow members.  Potential members considering taking the IAM test may have an individual assessment ride.  It should be noted that members are free to group up as they feel fit and embark on a purely social run of their choice without any “observing” etc\, merely enjoying the opportunity to ride with fellow like-minded bikers.  The runs last around 2 hours\, usually with a mid-point refreshment stop
URL:https://www.l-a-m.co.uk/calendar/group-observed-ride-5/
LOCATION:Willingham Woods\, LN8 3RQ\, United Kingdom
END:VEVENT
BEGIN:VEVENT
DTSTART;TZID=Europe/London:20160801T200000
DTEND;TZID=Europe/London:20160801T213000
DTSTAMP:20260420T084332
CREATED:20160325T195419Z
LAST-MODIFIED:20160731T102526Z
UID:341-1470081600-1470087000@www.l-a-m.co.uk
SUMMARY:Monthly Social Meeting
DESCRIPTION:There will be ride prior to the meeting leaving the Nags Head at 1830hrs. All welcome.
URL:https://www.l-a-m.co.uk/calendar/monthly-social-meeting-6/
LOCATION:Nags Head\, Middle Rasen\, Lincolnshire\, LN8 3JU\, United Kingdom
END:VEVENT
BEGIN:VEVENT
DTSTART;TZID=Europe/London:20160727T194500
DTEND;TZID=Europe/London:20160727T213000
DTSTAMP:20260420T084332
CREATED:20160325T194933Z
LAST-MODIFIED:20160325T194933Z
UID:337-1469648700-1469655000@www.l-a-m.co.uk
SUMMARY:Observers Meeting
DESCRIPTION:Meeting for Observers and those interested in becoming Observers.
URL:https://www.l-a-m.co.uk/calendar/observers-meeting-7/
LOCATION:Nags Head\, Middle Rasen\, Lincolnshire\, LN8 3JU\, United Kingdom
END:VEVENT
BEGIN:VEVENT
DTSTART;TZID=Europe/London:20160710T090000
DTEND;TZID=Europe/London:20160710T130000
DTSTAMP:20260420T084332
CREATED:20160325T194838Z
LAST-MODIFIED:20160325T195648Z
UID:336-1468141200-1468155600@www.l-a-m.co.uk
SUMMARY:Group Observed Ride
DESCRIPTION:The Sunday morning Group Observed and Social Runs are open to all members and also potential members who may be considering preparing for the IAM test.  The prime purpose is to provide the opportunity for all to improve their skills through riding with fellow members.  Potential members considering taking the IAM test may have an individual assessment ride.  It should be noted that members are free to group up as they feel fit and embark on a purely social run of their choice without any “observing” etc\, merely enjoying the opportunity to ride with fellow like-minded bikers.  The runs last around 2 hours\, usually with a mid-point refreshment stop
URL:https://www.l-a-m.co.uk/calendar/group-observed-run-3/
LOCATION:Brigg Leisure Centre\, Scawby Rd\, Brigg\, Lincolnshire\, DN20 9JH\, United Kingdom
END:VEVENT
BEGIN:VEVENT
DTSTART;TZID=Europe/London:20160704T200000
DTEND;TZID=Europe/London:20160704T213000
DTSTAMP:20260420T084332
CREATED:20160325T194741Z
LAST-MODIFIED:20160325T194741Z
UID:335-1467662400-1467667800@www.l-a-m.co.uk
SUMMARY:Monthly Social Meeting
DESCRIPTION:
URL:https://www.l-a-m.co.uk/calendar/monthly-social-meeting-5/
LOCATION:Nags Head\, Middle Rasen\, Lincolnshire\, LN8 3JU\, United Kingdom
END:VEVENT
BEGIN:VEVENT
DTSTART;TZID=Europe/London:20160702T100000
DTEND;TZID=Europe/London:20160702T170000
DTSTAMP:20260420T084332
CREATED:20160325T195322Z
LAST-MODIFIED:20160325T195322Z
UID:338-1467453600-1467478800@www.l-a-m.co.uk
SUMMARY:IAM 60th Birthday Celebrations
DESCRIPTION:
URL:https://www.l-a-m.co.uk/calendar/iam-60th-birthday-celebrations/
LOCATION:National Motorcycle Museum\, Birmingham
END:VEVENT
BEGIN:VEVENT
DTSTART;TZID=Europe/London:20160629T194500
DTEND;TZID=Europe/London:20160629T213000
DTSTAMP:20260420T084332
CREATED:20160325T194446Z
LAST-MODIFIED:20160325T194446Z
UID:332-1467229500-1467235800@www.l-a-m.co.uk
SUMMARY:Observers Meeting
DESCRIPTION:Meeting for Observers and those interested in becoming Observers.
URL:https://www.l-a-m.co.uk/calendar/observers-meeting-6/
LOCATION:Nags Head\, Middle Rasen\, Lincolnshire\, LN8 3JU\, United Kingdom
END:VEVENT
BEGIN:VEVENT
DTSTART;TZID=Europe/London:20160613T194500
DTEND;TZID=Europe/London:20160613T213000
DTSTAMP:20260420T084332
CREATED:20160325T194346Z
LAST-MODIFIED:20160325T194346Z
UID:331-1465847100-1465853400@www.l-a-m.co.uk
SUMMARY:Committee Meeting
DESCRIPTION:
URL:https://www.l-a-m.co.uk/calendar/committee-meeting-6/
LOCATION:Nags Head\, Middle Rasen\, Lincolnshire\, LN8 3JU\, United Kingdom
END:VEVENT
BEGIN:VEVENT
DTSTART;TZID=Europe/London:20160612T090000
DTEND;TZID=Europe/London:20160612T130000
DTSTAMP:20260420T084332
CREATED:20160325T194234Z
LAST-MODIFIED:20160325T195719Z
UID:330-1465722000-1465736400@www.l-a-m.co.uk
SUMMARY:Group Observed Ride
DESCRIPTION:The Sunday morning Group Observed and Social Runs are open to all members and also potential members who may be considering preparing for the IAM test.  The prime purpose is to provide the opportunity for all to improve their skills through riding with fellow members.  Potential members considering taking the IAM test may have an individual assessment ride.  It should be noted that members are free to group up as they feel fit and embark on a purely social run of their choice without any “observing” etc\, merely enjoying the opportunity to ride with fellow like-minded bikers.  The runs last around 2 hours\, usually with a mid-point refreshment stop
URL:https://www.l-a-m.co.uk/calendar/group-observed-ride-4/
LOCATION:Hartsholme Park\, Lincolnshire\, LN6 0EY\, United Kingdom
END:VEVENT
BEGIN:VEVENT
DTSTART;TZID=Europe/London:20160612T080000
DTEND;TZID=Europe/London:20160612T170000
DTSTAMP:20260420T084332
CREATED:20160325T194630Z
LAST-MODIFIED:20160325T194630Z
UID:333-1465718400-1465750800@www.l-a-m.co.uk
SUMMARY:Lincoln BikeFest
DESCRIPTION:As usual we will be having a stand at this event. Help needed to set up and through the day.
URL:https://www.l-a-m.co.uk/calendar/lincoln-bikefest/
LOCATION:Brayford Pool\, Lincoln
END:VEVENT
BEGIN:VEVENT
DTSTART;TZID=Europe/London:20160606T200000
DTEND;TZID=Europe/London:20160606T213000
DTSTAMP:20260420T084332
CREATED:20160325T194141Z
LAST-MODIFIED:20160325T194141Z
UID:329-1465243200-1465248600@www.l-a-m.co.uk
SUMMARY:Monthly Social Meeting
DESCRIPTION:
URL:https://www.l-a-m.co.uk/calendar/monthly-social-meeting-4/
LOCATION:Nags Head\, Middle Rasen\, Lincolnshire\, LN8 3JU\, United Kingdom
END:VEVENT
BEGIN:VEVENT
DTSTART;TZID=Europe/London:20160529T103000
DTEND;TZID=Europe/London:20160529T130000
DTSTAMP:20260420T084332
CREATED:20160325T194048Z
LAST-MODIFIED:20160517T204801Z
UID:328-1464517800-1464526800@www.l-a-m.co.uk
SUMMARY:Observers Meeting
DESCRIPTION:Meeting for Observers and those interested in becoming Observers.
URL:https://www.l-a-m.co.uk/calendar/observers-meeting-5/
LOCATION:Nags Head\, Middle Rasen\, Lincolnshire\, LN8 3JU\, United Kingdom
END:VEVENT
BEGIN:VEVENT
DTSTART;TZID=Europe/London:20160508T090000
DTEND;TZID=Europe/London:20160508T130000
DTSTAMP:20260420T084332
CREATED:20160325T193952Z
LAST-MODIFIED:20160325T195749Z
UID:327-1462698000-1462712400@www.l-a-m.co.uk
SUMMARY:Group Observed Ride
DESCRIPTION:The Sunday morning Group Observed and Social Runs are open to all members and also potential members who may be considering preparing for the IAM test.  The prime purpose is to provide the opportunity for all to improve their skills through riding with fellow members.  Potential members considering taking the IAM test may have an individual assessment ride.  It should be noted that members are free to group up as they feel fit and embark on a purely social run of their choice without any “observing” etc\, merely enjoying the opportunity to ride with fellow like-minded bikers.  The runs last around 2 hours\, usually with a mid-point refreshment stop
URL:https://www.l-a-m.co.uk/calendar/group-observed-ride-3/
LOCATION:Willingham Woods\, LN8 3RQ\, United Kingdom
END:VEVENT
BEGIN:VEVENT
DTSTART;TZID=Europe/London:20160502T194500
DTEND;TZID=Europe/London:20160502T213000
DTSTAMP:20260420T084332
CREATED:20160325T193849Z
LAST-MODIFIED:20160325T193849Z
UID:326-1462218300-1462224600@www.l-a-m.co.uk
SUMMARY:Monthly Social Meeting
DESCRIPTION:
URL:https://www.l-a-m.co.uk/calendar/monthly-social-meeting-3/
LOCATION:Nags Head\, Middle Rasen\, Lincolnshire\, LN8 3JU\, United Kingdom
END:VEVENT
BEGIN:VEVENT
DTSTART;TZID=Europe/London:20160427T204500
DTEND;TZID=Europe/London:20160427T213000
DTSTAMP:20260420T084332
CREATED:20160325T193705Z
LAST-MODIFIED:20160325T193751Z
UID:325-1461789900-1461792600@www.l-a-m.co.uk
SUMMARY:Observers Meeting
DESCRIPTION:Meeting for Observers and those interested in becoming Observers.
URL:https://www.l-a-m.co.uk/calendar/observers-meeting-4/
LOCATION:Nags Head\, Middle Rasen\, Lincolnshire\, LN8 3JU\, United Kingdom
END:VEVENT
BEGIN:VEVENT
DTSTART;TZID=Europe/London:20160410T090000
DTEND;TZID=Europe/London:20160410T130000
DTSTAMP:20260420T084332
CREATED:20160325T193319Z
LAST-MODIFIED:20160325T195835Z
UID:322-1460278800-1460293200@www.l-a-m.co.uk
SUMMARY:Group Observed Ride Out
DESCRIPTION:Meet 0900 for 0930 start. \nThe Sunday morning Group Observed and Social Runs are open to all members and also potential members who may be considering preparing for the IAM test.  The prime purpose is to provide the opportunity for all to improve their skills through riding with fellow members.  Potential members considering taking the IAM test may have an individual assessment ride.  It should be noted that members are free to group up as they feel fit and embark on a purely social run of their choice without any “observing” etc\, merely enjoying the opportunity to ride with fellow like-minded bikers.  The runs last around 2 hours\, usually with a mid-point refreshment stop
URL:https://www.l-a-m.co.uk/calendar/group-observer-ride-out/
LOCATION:Brigg Leisure Centre\, Scawby Rd\, Brigg\, Lincolnshire\, DN20 9JH\, United Kingdom
END:VEVENT
BEGIN:VEVENT
DTSTART;TZID=Europe/London:20160404T200000
DTEND;TZID=Europe/London:20160404T220000
DTSTAMP:20260420T084332
CREATED:20160325T193141Z
LAST-MODIFIED:20160325T193141Z
UID:321-1459800000-1459807200@www.l-a-m.co.uk
SUMMARY:Monthly Social Meeting
DESCRIPTION:We will be joined by Simon Weir\, deputy editor of Ride magazine. His topic will be ‘Top Touring Destinations’
URL:https://www.l-a-m.co.uk/calendar/monthly-social-meeting-2/
LOCATION:Nags Head\, Middle Rasen\, Lincolnshire\, LN8 3JU\, United Kingdom
END:VEVENT
END:VCALENDAR