BEGIN:VCALENDAR
VERSION:2.0
PRODID:-//Lincolnshire Advanced Motorcyclists - ECPv6.15.20//NONSGML v1.0//EN
CALSCALE:GREGORIAN
METHOD:PUBLISH
X-ORIGINAL-URL:https://www.l-a-m.co.uk
X-WR-CALDESC:Events for Lincolnshire Advanced Motorcyclists
REFRESH-INTERVAL;VALUE=DURATION:PT1H
X-Robots-Tag:noindex
X-PUBLISHED-TTL:PT1H
BEGIN:VTIMEZONE
TZID:Europe/London
BEGIN:DAYLIGHT
TZOFFSETFROM:+0000
TZOFFSETTO:+0100
TZNAME:BST
DTSTART:20140330T010000
END:DAYLIGHT
BEGIN:STANDARD
TZOFFSETFROM:+0100
TZOFFSETTO:+0000
TZNAME:GMT
DTSTART:20141026T010000
END:STANDARD
BEGIN:DAYLIGHT
TZOFFSETFROM:+0000
TZOFFSETTO:+0100
TZNAME:BST
DTSTART:20150329T010000
END:DAYLIGHT
BEGIN:STANDARD
TZOFFSETFROM:+0100
TZOFFSETTO:+0000
TZNAME:GMT
DTSTART:20151025T010000
END:STANDARD
BEGIN:DAYLIGHT
TZOFFSETFROM:+0000
TZOFFSETTO:+0100
TZNAME:BST
DTSTART:20160327T010000
END:DAYLIGHT
BEGIN:STANDARD
TZOFFSETFROM:+0100
TZOFFSETTO:+0000
TZNAME:GMT
DTSTART:20161030T010000
END:STANDARD
BEGIN:DAYLIGHT
TZOFFSETFROM:+0000
TZOFFSETTO:+0100
TZNAME:BST
DTSTART:20170326T010000
END:DAYLIGHT
BEGIN:STANDARD
TZOFFSETFROM:+0100
TZOFFSETTO:+0000
TZNAME:GMT
DTSTART:20171029T010000
END:STANDARD
END:VTIMEZONE
BEGIN:VEVENT
DTSTART;TZID=Europe/London:20160330T194500
DTEND;TZID=Europe/London:20160330T213000
DTSTAMP:20260422T134735
CREATED:20151213T204447Z
LAST-MODIFIED:20151213T204447Z
UID:303-1459367100-1459373400@www.l-a-m.co.uk
SUMMARY:Observers Meeting
DESCRIPTION:Meeting for Observers and those interested in becoming Observers.
URL:https://www.l-a-m.co.uk/calendar/observers-meeting-3/
LOCATION:Nags Head\, Middle Rasen\, Lincolnshire\, LN8 3JU\, United Kingdom
END:VEVENT
BEGIN:VEVENT
DTSTART;TZID=Europe/London:20160325T194500
DTEND;TZID=Europe/London:20160325T213000
DTSTAMP:20260422T134735
CREATED:20160325T193515Z
LAST-MODIFIED:20160325T193515Z
UID:323-1458935100-1458941400@www.l-a-m.co.uk
SUMMARY:Committee Meeting
DESCRIPTION:
URL:https://www.l-a-m.co.uk/calendar/committee-meeting-5/
LOCATION:Nags Head\, Middle Rasen\, Lincolnshire\, LN8 3JU\, United Kingdom
END:VEVENT
BEGIN:VEVENT
DTSTART;TZID=Europe/London:20160313T093000
DTEND;TZID=Europe/London:20160313T123000
DTSTAMP:20260422T134735
CREATED:20151213T204243Z
LAST-MODIFIED:20151213T204243Z
UID:302-1457861400-1457872200@www.l-a-m.co.uk
SUMMARY:Group Observed Ride
DESCRIPTION:The Sunday morning Group Observed and Social Runs are open to all members and also potential members who may be considering preparing for the IAM test.  The prime purpose is to provide the opportunity for all to improve their skills through riding with fellow members.  Potential members considering taking the IAM test may have an individual assessment ride.  It should be noted that members are free to group up as they feel fit and embark on a purely social run of their choice without any “observing” etc.\, merely enjoying the opportunity to ride with fellow like-minded bikers.  The runs last around 2 hours\, usually with a mid-point refreshment stop
URL:https://www.l-a-m.co.uk/calendar/group-observed-ride-2/
LOCATION:Hartsholme Park\, Lincolnshire\, LN6 0EY\, United Kingdom
END:VEVENT
BEGIN:VEVENT
DTSTART;TZID=Europe/London:20160307T200000
DTEND;TZID=Europe/London:20160307T220000
DTSTAMP:20260422T134735
CREATED:20151213T204028Z
LAST-MODIFIED:20160210T105128Z
UID:301-1457380800-1457388000@www.l-a-m.co.uk
SUMMARY:Social Meeting
DESCRIPTION:Speaker at this meeting will be Michael Pace from Andrew Solicitors in Lincoln. \nHe will talk for around 30 mins on liability in road accidents and what’s new in road traffic law\, to be followed by a Q&A session. \nIt would be good if we can encourage members to bring some relevant questions with them\, could be from personal experience or someone they know.
URL:https://www.l-a-m.co.uk/calendar/social-meeting-2/
LOCATION:Nags Head\, Middle Rasen\, Lincolnshire\, LN8 3JU\, United Kingdom
END:VEVENT
BEGIN:VEVENT
DTSTART;TZID=Europe/London:20160224T194500
DTEND;TZID=Europe/London:20160224T213000
DTSTAMP:20260422T134735
CREATED:20151213T203742Z
LAST-MODIFIED:20151213T203742Z
UID:300-1456343100-1456349400@www.l-a-m.co.uk
SUMMARY:Observers Meeting
DESCRIPTION:Meeting for current observers and for any member that is interested in becoming an observer.
URL:https://www.l-a-m.co.uk/calendar/observers-meeting-2/
LOCATION:Nags Head\, Middle Rasen\, Lincolnshire\, LN8 3JU\, United Kingdom
END:VEVENT
BEGIN:VEVENT
DTSTART;TZID=Europe/London:20160208T194500
DTEND;TZID=Europe/London:20160208T214500
DTSTAMP:20260422T134735
CREATED:20151213T203612Z
LAST-MODIFIED:20151213T203612Z
UID:299-1454960700-1454967900@www.l-a-m.co.uk
SUMMARY:Committee Meeting
DESCRIPTION:
URL:https://www.l-a-m.co.uk/calendar/committee-meeting-4/
LOCATION:Nags Head\, Middle Rasen\, Lincolnshire\, LN8 3JU\, United Kingdom
END:VEVENT
BEGIN:VEVENT
DTSTART;TZID=Europe/London:20160207T113000
DTEND;TZID=Europe/London:20160207T143000
DTSTAMP:20260422T134735
CREATED:20151213T203459Z
LAST-MODIFIED:20151213T204320Z
UID:298-1454844600-1454855400@www.l-a-m.co.uk
SUMMARY:Group Observed Ride
DESCRIPTION:Meet 1130 for a midday start. \nThe Sunday morning Group Observed and Social Runs are open to all members and also potential members who may be considering preparing for the IAM test.  The prime purpose is to provide the opportunity for all to improve their skills through riding with fellow members.  Potential members considering taking the IAM test may have an individual assessment ride.  It should be noted that members are free to group up as they feel fit and embark on a purely social run of their choice without any “observing” etc.\, merely enjoying the opportunity to ride with fellow like-minded bikers.  The runs last around 2 hours\, usually with a mid-point refreshment stop
URL:https://www.l-a-m.co.uk/calendar/group-observed-ride/
LOCATION:Willingham Woods\, LN8 3RQ\, United Kingdom
END:VEVENT
BEGIN:VEVENT
DTSTART;TZID=Europe/London:20160201T200000
DTEND;TZID=Europe/London:20160201T220000
DTSTAMP:20260422T134735
CREATED:20151213T203326Z
LAST-MODIFIED:20151213T203326Z
UID:297-1454356800-1454364000@www.l-a-m.co.uk
SUMMARY:Social Meeting
DESCRIPTION:
URL:https://www.l-a-m.co.uk/calendar/social-meeting/
LOCATION:Nags Head\, Middle Rasen\, Lincolnshire\, LN8 3JU\, United Kingdom
END:VEVENT
BEGIN:VEVENT
DTSTART;TZID=Europe/London:20151214T194500
DTEND;TZID=Europe/London:20151214T214500
DTSTAMP:20260422T134735
CREATED:20151213T203236Z
LAST-MODIFIED:20151213T203236Z
UID:296-1450122300-1450129500@www.l-a-m.co.uk
SUMMARY:Committee Meeting
DESCRIPTION:
URL:https://www.l-a-m.co.uk/calendar/committee-meeting-3/
LOCATION:Nags Head\, Middle Rasen\, Lincolnshire\, LN8 3JU\, United Kingdom
END:VEVENT
BEGIN:VEVENT
DTSTART;TZID=Europe/London:20151213T000000
DTEND;TZID=Europe/London:20151213T150000
DTSTAMP:20260422T134735
CREATED:20151104T223530Z
LAST-MODIFIED:20151104T223650Z
UID:264-1449964800-1450018800@www.l-a-m.co.uk
SUMMARY:Monthly Group Ride
DESCRIPTION:The final ride of the year. Later than normal to allow for an improvement in the weather during the morning. Meet at Brigg at 1130 for a 1200hrs departure.
URL:https://www.l-a-m.co.uk/calendar/monthly-group-ride/
LOCATION:Brigg Leisure Centre\, Scawby Rd\, Brigg\, Lincolnshire\, DN20 9JH\, United Kingdom
END:VEVENT
BEGIN:VEVENT
DTSTART;TZID=Europe/London:20151207T200000
DTEND;TZID=Europe/London:20151207T220000
DTSTAMP:20260422T134735
CREATED:20151104T223129Z
LAST-MODIFIED:20151104T223129Z
UID:263-1449518400-1449525600@www.l-a-m.co.uk
SUMMARY:Monthly Social Meeting
DESCRIPTION:The final social of the year and we will have a quiz\, raffle and buffet.
URL:https://www.l-a-m.co.uk/calendar/monthly-social-meeting/
LOCATION:Nags Head\, Middle Rasen\, Lincolnshire\, LN8 3JU\, United Kingdom
END:VEVENT
BEGIN:VEVENT
DTSTART;TZID=Europe/London:20151108T100000
DTEND;TZID=Europe/London:20151108T130000
DTSTAMP:20260422T134735
CREATED:20150918T153306Z
LAST-MODIFIED:20150918T153306Z
UID:195-1446976800-1446987600@www.l-a-m.co.uk
SUMMARY:Monthly Group Run
DESCRIPTION:Run out leaving at 1000hrs\, be there early for bacon buttie and tea.
URL:https://www.l-a-m.co.uk/calendar/monthly-group-run-2/
LOCATION:Hartsholme Park\, Lincolnshire\, LN6 0EY\, United Kingdom
END:VEVENT
BEGIN:VEVENT
DTSTART;TZID=Europe/London:20151102T200000
DTEND;TZID=Europe/London:20151102T220000
DTSTAMP:20260422T134735
CREATED:20150918T153102Z
LAST-MODIFIED:20150918T153102Z
UID:194-1446494400-1446501600@www.l-a-m.co.uk
SUMMARY:Monthly Social Meeting and AGM
DESCRIPTION:
URL:https://www.l-a-m.co.uk/calendar/monthly-social-meeting-and-agm/
LOCATION:Nags Head\, Middle Rasen\, Lincolnshire\, LN8 3JU\, United Kingdom
END:VEVENT
BEGIN:VEVENT
DTSTART;TZID=Europe/London:20151025T103000
DTEND;TZID=Europe/London:20151025T123000
DTSTAMP:20260422T134735
CREATED:20150918T152851Z
LAST-MODIFIED:20151003T213731Z
UID:192-1445769000-1445776200@www.l-a-m.co.uk
SUMMARY:Observers Meeting
DESCRIPTION:Meeting for Observers and those interested in becoming Observers
URL:https://www.l-a-m.co.uk/calendar/observers-meeting/
LOCATION:Nags Head\, Middle Rasen\, Lincolnshire\, LN8 3JU\, United Kingdom
END:VEVENT
BEGIN:VEVENT
DTSTART;TZID=Europe/London:20151019T194500
DTEND;TZID=Europe/London:20151019T220000
DTSTAMP:20260422T134735
CREATED:20150918T152947Z
LAST-MODIFIED:20150918T153125Z
UID:193-1445283900-1445292000@www.l-a-m.co.uk
SUMMARY:Committee Meeting
DESCRIPTION:
URL:https://www.l-a-m.co.uk/calendar/committee-meeting-2/
LOCATION:Nags Head\, Middle Rasen\, Lincolnshire\, LN8 3JU\, United Kingdom
END:VEVENT
BEGIN:VEVENT
DTSTART;TZID=Europe/London:20151014T193000
DTEND;TZID=Europe/London:20151014T220000
DTSTAMP:20260422T134735
CREATED:20150813T205706Z
LAST-MODIFIED:20150911T203410Z
UID:131-1444851000-1444860000@www.l-a-m.co.uk
SUMMARY:Barrie Heath Quiz
DESCRIPTION:
URL:https://www.l-a-m.co.uk/calendar/barrie-heath-quiz/
LOCATION:Redbourne Club\, Cemetary Road\, Scunthorpe
END:VEVENT
BEGIN:VEVENT
DTSTART;TZID=Europe/London:20151011T093000
DTEND;TZID=Europe/London:20151011T130000
DTSTAMP:20260422T134735
CREATED:20150911T202632Z
LAST-MODIFIED:20150911T203315Z
UID:187-1444555800-1444568400@www.l-a-m.co.uk
SUMMARY:Monthly Group Run
DESCRIPTION:
URL:https://www.l-a-m.co.uk/calendar/monthly-group-run/
LOCATION:Willingham Woods\, LN8 3RQ\, United Kingdom
END:VEVENT
BEGIN:VEVENT
DTSTART;TZID=Europe/London:20151005T200000
DTEND;TZID=Europe/London:20151005T220000
DTSTAMP:20260422T134735
CREATED:20150909T091142Z
LAST-MODIFIED:20150909T091202Z
UID:153-1444075200-1444082400@www.l-a-m.co.uk
SUMMARY:Monday Evening Social Meeting
DESCRIPTION:
URL:https://www.l-a-m.co.uk/calendar/monday-evening-social-meeting/
LOCATION:Nags Head\, Middle Rasen\, Lincolnshire\, LN8 3JU\, United Kingdom
END:VEVENT
BEGIN:VEVENT
DTSTART;TZID=Europe/London:20150930T194500
DTEND;TZID=Europe/London:20150930T220000
DTSTAMP:20260422T134735
CREATED:20150801T132818Z
LAST-MODIFIED:20150918T152508Z
UID:100-1443642300-1443650400@www.l-a-m.co.uk
SUMMARY:Meeting for Observers
DESCRIPTION:Meeting for Observers and those interested in becoming Observers
URL:https://www.l-a-m.co.uk/calendar/meeting-for-observers-2/
LOCATION:Nags Head\, Middle Rasen\, Lincolnshire\, LN8 3JU\, United Kingdom
CATEGORIES:Rides
END:VEVENT
BEGIN:VEVENT
DTSTART;TZID=Europe/London:20150913T090000
DTEND;TZID=Europe/London:20150913T120000
DTSTAMP:20260422T134735
CREATED:20150801T132733Z
LAST-MODIFIED:20150801T135022Z
UID:99-1442134800-1442145600@www.l-a-m.co.uk
SUMMARY:Group Observed Run
DESCRIPTION:Meet 9.00am for 9.30am. prompt start.
URL:https://www.l-a-m.co.uk/calendar/group-observed-run-2/
LOCATION:Brigg Leisure Centre\, Scawby Rd\, Brigg\, Lincolnshire\, DN20 9JH\, United Kingdom
CATEGORIES:Rides
END:VEVENT
BEGIN:VEVENT
DTSTART;TZID=Europe/London:20150907T200000
DTEND;TZID=Europe/London:20150907T220000
DTSTAMP:20260422T134736
CREATED:20150801T132515Z
LAST-MODIFIED:20150801T135005Z
UID:96-1441656000-1441663200@www.l-a-m.co.uk
SUMMARY:Monday Evening Meeting
DESCRIPTION:
URL:https://www.l-a-m.co.uk/calendar/monday-evening-meeting-3/
LOCATION:Nags Head\, Middle Rasen\, Lincolnshire\, LN8 3JU\, United Kingdom
CATEGORIES:Monthly Meetings
END:VEVENT
BEGIN:VEVENT
DTSTART;TZID=Europe/London:20150826T194500
DTEND;TZID=Europe/London:20150826T220000
DTSTAMP:20260422T134736
CREATED:20150801T132449Z
LAST-MODIFIED:20150801T135022Z
UID:95-1440618300-1440626400@www.l-a-m.co.uk
SUMMARY:Meeting for Observers
DESCRIPTION:Meeting for Observers and those interested in becoming Observers
URL:https://www.l-a-m.co.uk/calendar/meeting-for-observers/
LOCATION:Nags Head\, Middle Rasen\, Lincolnshire\, LN8 3JU\, United Kingdom
CATEGORIES:Rides
END:VEVENT
BEGIN:VEVENT
DTSTART;TZID=Europe/London:20150817T194500
DTEND;TZID=Europe/London:20150817T220000
DTSTAMP:20260422T134736
CREATED:20150801T132357Z
LAST-MODIFIED:20150813T204056Z
UID:94-1439840700-1439848800@www.l-a-m.co.uk
SUMMARY:Committee Meeting
DESCRIPTION:
URL:https://www.l-a-m.co.uk/calendar/committee-meeting/
LOCATION:Nags Head\, Middle Rasen\, Lincolnshire\, LN8 3JU\, United Kingdom
CATEGORIES:Rides
END:VEVENT
BEGIN:VEVENT
DTSTART;TZID=Europe/London:20150809T090000
DTEND;TZID=Europe/London:20150809T120000
DTSTAMP:20260422T134736
CREATED:20150801T132131Z
LAST-MODIFIED:20150801T135022Z
UID:93-1439110800-1439121600@www.l-a-m.co.uk
SUMMARY:Group Observed Run
DESCRIPTION:Meet 9.00am for 9.30am prompt start.
URL:https://www.l-a-m.co.uk/calendar/group-observed-run/
LOCATION:Hartsholme Park\, Lincolnshire\, LN6 0EY\, United Kingdom
CATEGORIES:Rides
END:VEVENT
BEGIN:VEVENT
DTSTART;TZID=Europe/London:20150803T200000
DTEND;TZID=Europe/London:20150803T220000
DTSTAMP:20260422T134736
CREATED:20150801T133034Z
LAST-MODIFIED:20150801T135005Z
UID:101-1438632000-1438639200@www.l-a-m.co.uk
SUMMARY:Monday Evening Meeting
DESCRIPTION:
URL:https://www.l-a-m.co.uk/calendar/monday-evening-meeting-2/
LOCATION:Nags Head\, Middle Rasen\, Lincolnshire\, LN8 3JU\, United Kingdom
CATEGORIES:Monthly Meetings
END:VEVENT
BEGIN:VEVENT
DTSTART;TZID=Europe/London:20150706T200000
DTEND;TZID=Europe/London:20150706T220000
DTSTAMP:20260422T134736
CREATED:20150801T123225Z
LAST-MODIFIED:20150801T135005Z
UID:51-1436212800-1436220000@www.l-a-m.co.uk
SUMMARY:Monday Evening Meeting
DESCRIPTION:
URL:https://www.l-a-m.co.uk/calendar/monday-evening-meeting/
LOCATION:Nags Head\, Middle Rasen\, Lincolnshire\, LN8 3JU\, United Kingdom
CATEGORIES:Monthly Meetings
END:VEVENT
END:VCALENDAR