BEGIN:VCALENDAR
VERSION:2.0
PRODID:-//Lincolnshire Advanced Motorcyclists - ECPv6.15.20//NONSGML v1.0//EN
CALSCALE:GREGORIAN
METHOD:PUBLISH
X-ORIGINAL-URL:https://www.l-a-m.co.uk
X-WR-CALDESC:Events for Lincolnshire Advanced Motorcyclists
REFRESH-INTERVAL;VALUE=DURATION:PT1H
X-Robots-Tag:noindex
X-PUBLISHED-TTL:PT1H
BEGIN:VTIMEZONE
TZID:Europe/London
BEGIN:DAYLIGHT
TZOFFSETFROM:+0000
TZOFFSETTO:+0100
TZNAME:BST
DTSTART:20180325T010000
END:DAYLIGHT
BEGIN:STANDARD
TZOFFSETFROM:+0100
TZOFFSETTO:+0000
TZNAME:GMT
DTSTART:20181028T010000
END:STANDARD
BEGIN:DAYLIGHT
TZOFFSETFROM:+0000
TZOFFSETTO:+0100
TZNAME:BST
DTSTART:20190331T010000
END:DAYLIGHT
BEGIN:STANDARD
TZOFFSETFROM:+0100
TZOFFSETTO:+0000
TZNAME:GMT
DTSTART:20191027T010000
END:STANDARD
BEGIN:DAYLIGHT
TZOFFSETFROM:+0000
TZOFFSETTO:+0100
TZNAME:BST
DTSTART:20200329T010000
END:DAYLIGHT
BEGIN:STANDARD
TZOFFSETFROM:+0100
TZOFFSETTO:+0000
TZNAME:GMT
DTSTART:20201025T010000
END:STANDARD
BEGIN:DAYLIGHT
TZOFFSETFROM:+0000
TZOFFSETTO:+0100
TZNAME:BST
DTSTART:20210328T010000
END:DAYLIGHT
BEGIN:STANDARD
TZOFFSETFROM:+0100
TZOFFSETTO:+0000
TZNAME:GMT
DTSTART:20211031T010000
END:STANDARD
BEGIN:DAYLIGHT
TZOFFSETFROM:+0000
TZOFFSETTO:+0100
TZNAME:BST
DTSTART:20220327T010000
END:DAYLIGHT
BEGIN:STANDARD
TZOFFSETFROM:+0100
TZOFFSETTO:+0000
TZNAME:GMT
DTSTART:20221030T010000
END:STANDARD
END:VTIMEZONE
BEGIN:VEVENT
DTSTART;TZID=Europe/London:20210224T193000
DTEND;TZID=Europe/London:20210224T203000
DTSTAMP:20260421T094833
CREATED:20201114T110056Z
LAST-MODIFIED:20201114T110056Z
UID:1000-1614195000-1614198600@www.l-a-m.co.uk
SUMMARY:Virtual Observers Meeting
DESCRIPTION:Jerry\, our Chief Observer\, will be holding an Observers meeting using Zoom. If you are interested in becoming an Observer and want to join the meeting give Jerry a call (number on the committee page)
URL:https://www.l-a-m.co.uk/calendar/virtual-observers-meeting-2/
LOCATION:Virtual Zoom
END:VEVENT
BEGIN:VEVENT
DTSTART;TZID=Europe/London:20201214T193000
DTEND;TZID=Europe/London:20201214T203000
DTSTAMP:20260421T094833
CREATED:20201114T102738Z
LAST-MODIFIED:20201114T102738Z
UID:991-1607974200-1607977800@www.l-a-m.co.uk
SUMMARY:Committee Meeting
DESCRIPTION:Virtual Zoom Committee Meeting
URL:https://www.l-a-m.co.uk/calendar/committee-meeting-22/
LOCATION:Virtual Zoom
END:VEVENT
BEGIN:VEVENT
DTSTART;TZID=Europe/London:20201118T193000
DTEND;TZID=Europe/London:20201118T203000
DTSTAMP:20260421T094833
CREATED:20201114T102329Z
LAST-MODIFIED:20201114T102329Z
UID:987-1605727800-1605731400@www.l-a-m.co.uk
SUMMARY:Virtual Observers Meeting
DESCRIPTION:Jerry\, our Chief Observer\, will be holding an Observers meeting using Zoom. If you are interested in becoming an Observer and want to join the meeting give Jerry a call (number on the committee page)
URL:https://www.l-a-m.co.uk/calendar/virtual-observers-meeting/
LOCATION:Virtual Zoom
END:VEVENT
BEGIN:VEVENT
DTSTART;TZID=Europe/London:20201028T193000
DTEND;TZID=Europe/London:20201028T213000
DTSTAMP:20260421T094833
CREATED:20200309T173901Z
LAST-MODIFIED:20200309T173901Z
UID:919-1603913400-1603920600@www.l-a-m.co.uk
SUMMARY:Observers Meeting
DESCRIPTION:Meeting for Observers and those interested in becoming an Observer. Starts at 1945hrs.
URL:https://www.l-a-m.co.uk/calendar/observers-meeting-30/
LOCATION:Emprocon Ltd\, Scothern Lane\, Langworth\, LN3 5BH\, United Kingdom
END:VEVENT
BEGIN:VEVENT
DTSTART;TZID=Europe/London:20201012T193000
DTEND;TZID=Europe/London:20201012T213000
DTSTAMP:20260421T094833
CREATED:20200309T174229Z
LAST-MODIFIED:20200309T174229Z
UID:925-1602531000-1602538200@www.l-a-m.co.uk
SUMMARY:Committee Meeting
DESCRIPTION:Starts at 1945hrs
URL:https://www.l-a-m.co.uk/calendar/committee-meeting-25/
LOCATION:Nags Head\, Middle Rasen\, Lincolnshire\, LN8 3JU\, United Kingdom
END:VEVENT
BEGIN:VEVENT
DTSTART;TZID=Europe/London:20201011T100000
DTEND;TZID=Europe/London:20201011T130000
DTSTAMP:20260421T094833
CREATED:20200309T173150Z
LAST-MODIFIED:20200309T173150Z
UID:913-1602410400-1602421200@www.l-a-m.co.uk
SUMMARY:group Observed Ride
DESCRIPTION:Leaving promptly at 1000hrs. Get there early for a cuppa.
URL:https://www.l-a-m.co.uk/calendar/group-observed-ride-20/
LOCATION:Hartsholme Park\, Lincolnshire\, LN6 0EY\, United Kingdom
END:VEVENT
BEGIN:VEVENT
DTSTART;TZID=Europe/London:20200930T193000
DTEND;TZID=Europe/London:20200930T213000
DTSTAMP:20260421T094833
CREATED:20200309T173807Z
LAST-MODIFIED:20200309T173807Z
UID:917-1601494200-1601501400@www.l-a-m.co.uk
SUMMARY:Observers Meeting
DESCRIPTION:Meeting for Observers and those interested in becoming an Observer. Starts at 1945hrs.
URL:https://www.l-a-m.co.uk/calendar/observers-meeting-29/
LOCATION:Emprocon Ltd\, Scothern Lane\, Langworth\, LN3 5BH\, United Kingdom
END:VEVENT
BEGIN:VEVENT
DTSTART;TZID=Europe/London:20200913T093000
DTEND;TZID=Europe/London:20200913T130000
DTSTAMP:20260421T094833
CREATED:20200309T173035Z
LAST-MODIFIED:20200309T173035Z
UID:911-1599989400-1600002000@www.l-a-m.co.uk
SUMMARY:Group Observed Ride
DESCRIPTION:Leaving promptly at 0930. Get there early for a cuppa.
URL:https://www.l-a-m.co.uk/calendar/group-observed-ride-19/
LOCATION:Willingham Woods\, LN8 3RQ\, United Kingdom
END:VEVENT
BEGIN:VEVENT
DTSTART;TZID=Europe/London:20200826T183000
DTEND;TZID=Europe/London:20200826T213000
DTSTAMP:20260421T094833
CREATED:20200309T165354Z
LAST-MODIFIED:20200309T165354Z
UID:893-1598466600-1598477400@www.l-a-m.co.uk
SUMMARY:Observers Meeting
DESCRIPTION:Meeting for Observers and those interested in becoming an Observer. During the summer months these are training rides followed by a short meeting. Start times and locations vary so give Jerry Neale (07412 935333) a call to confirm.
URL:https://www.l-a-m.co.uk/calendar/observers-meeting-28/
END:VEVENT
BEGIN:VEVENT
DTSTART;TZID=Europe/London:20200810T193000
DTEND;TZID=Europe/London:20200810T213000
DTSTAMP:20260421T094833
CREATED:20200309T174136Z
LAST-MODIFIED:20200309T174136Z
UID:923-1597087800-1597095000@www.l-a-m.co.uk
SUMMARY:Committee meeting
DESCRIPTION:Starts at 1945hrs
URL:https://www.l-a-m.co.uk/calendar/committee-meeting-24/
LOCATION:Nags Head\, Middle Rasen\, Lincolnshire\, LN8 3JU\, United Kingdom
END:VEVENT
BEGIN:VEVENT
DTSTART;TZID=Europe/London:20200809T100000
DTEND;TZID=Europe/London:20200809T133000
DTSTAMP:20260421T094833
CREATED:20200729T090206Z
LAST-MODIFIED:20200729T090206Z
UID:964-1596967200-1596979800@www.l-a-m.co.uk
SUMMARY:Group Observed Ride
DESCRIPTION:Leaving promptly at 1000 hrs\, get there earlier if you want a brew or bacon butty.
URL:https://www.l-a-m.co.uk/calendar/group-observed-ride-14/
LOCATION:Waddington Airfield Viewing Enclosure\, A15\,  LN5 9FG  
END:VEVENT
BEGIN:VEVENT
DTSTART;TZID=Europe/London:20200809T093000
DTEND;TZID=Europe/London:20200809T130000
DTSTAMP:20260421T094833
CREATED:20200309T172837Z
LAST-MODIFIED:20200309T172837Z
UID:909-1596965400-1596978000@www.l-a-m.co.uk
SUMMARY:Group Observed Ride
DESCRIPTION:Leaving promptly at 0930.
URL:https://www.l-a-m.co.uk/calendar/group-observed-ride-18/
LOCATION:Brigg Leisure Centre\, Scawby Rd\, Brigg\, Lincolnshire\, DN20 9JH\, United Kingdom
END:VEVENT
BEGIN:VEVENT
DTSTART;TZID=Europe/London:20200724T183000
DTEND;TZID=Europe/London:20200724T213000
DTSTAMP:20260421T094833
CREATED:20200309T165247Z
LAST-MODIFIED:20200309T165305Z
UID:891-1595615400-1595626200@www.l-a-m.co.uk
SUMMARY:Observers Meeting
DESCRIPTION:Meeting for Observers and those interested in becoming an Observer. During the summer months these are training rides followed by a short meeting. Start times and locations vary so give Jerry Neale (07412 935333) a call to confirm.
URL:https://www.l-a-m.co.uk/calendar/observers-meeting-27/
END:VEVENT
BEGIN:VEVENT
DTSTART;TZID=Europe/London:20200712T093000
DTEND;TZID=Europe/London:20200712T130000
DTSTAMP:20260421T094833
CREATED:20200309T172514Z
LAST-MODIFIED:20200626T085616Z
UID:905-1594546200-1594558800@www.l-a-m.co.uk
SUMMARY:Group Observed Ride
DESCRIPTION:Leaving promptly at 0930\, get there early for a cuppa.
URL:https://www.l-a-m.co.uk/calendar/group-observed-ride-16/
LOCATION:Waddington Airfield Viewing Enclosure\, A15\,  LN5 9FG  
END:VEVENT
BEGIN:VEVENT
DTSTART;TZID=Europe/London:20200624T183000
DTEND;TZID=Europe/London:20200624T213000
DTSTAMP:20260421T094833
CREATED:20200309T165145Z
LAST-MODIFIED:20200309T165204Z
UID:889-1593023400-1593034200@www.l-a-m.co.uk
SUMMARY:Observers Meeting
DESCRIPTION:Meeting for Observers and those interested in becoming an Observer. During the summer months these are training rides followed by a short meeting. Start times and locations vary so give Jerry Neale (07412 935333) a call to confirm.
URL:https://www.l-a-m.co.uk/calendar/observers-meeting-26/
END:VEVENT
BEGIN:VEVENT
DTSTART;TZID=Europe/London:20200608T193000
DTEND;TZID=Europe/London:20200608T213000
DTSTAMP:20260421T094833
CREATED:20200309T174034Z
LAST-MODIFIED:20200309T174034Z
UID:921-1591644600-1591651800@www.l-a-m.co.uk
SUMMARY:Committee Meeting
DESCRIPTION:Starts at 1945hrs
URL:https://www.l-a-m.co.uk/calendar/committee-meeting-23/
LOCATION:Nags Head\, Middle Rasen\, Lincolnshire\, LN8 3JU\, United Kingdom
END:VEVENT
BEGIN:VEVENT
DTSTART;TZID=Europe/London:20200607T080000
DTEND;TZID=Europe/London:20200607T170000
DTSTAMP:20260421T094833
CREATED:20200309T172702Z
LAST-MODIFIED:20200309T172702Z
UID:907-1591516800-1591549200@www.l-a-m.co.uk
SUMMARY:Group Observed Ride
DESCRIPTION:Leaving promptly at 0930\, get there early for a cuppa.
URL:https://www.l-a-m.co.uk/calendar/group-observed-ride-17/
LOCATION:Willingham Woods\, LN8 3RQ\, United Kingdom
END:VEVENT
BEGIN:VEVENT
DTSTART;TZID=Europe/London:20200325T193000
DTEND;TZID=Europe/London:20200325T213000
DTSTAMP:20260421T094833
CREATED:20191211T161629Z
LAST-MODIFIED:20200309T173442Z
UID:842-1585164600-1585171800@www.l-a-m.co.uk
SUMMARY:Observer Meeting
DESCRIPTION:Meeting for Observers and those that are interested in becoming an Observer. Starts at 1945hrs.
URL:https://www.l-a-m.co.uk/calendar/observer-meeting-9/
LOCATION:Emprocon Ltd\, Scothern Lane\, Langworth\, LN3 5BH\, United Kingdom
END:VEVENT
BEGIN:VEVENT
DTSTART;TZID=Europe/London:20200308T093000
DTEND;TZID=Europe/London:20200308T130000
DTSTAMP:20260421T094833
CREATED:20191211T161512Z
LAST-MODIFIED:20191211T161512Z
UID:840-1583659800-1583672400@www.l-a-m.co.uk
SUMMARY:Group Observed Ride
DESCRIPTION:Ride leaves at 1000hrs so get there early for a cuppa and bacon buttie.
URL:https://www.l-a-m.co.uk/calendar/group-observed-ride-13/
LOCATION:Willingham Woods\, LN8 3RQ\, United Kingdom
END:VEVENT
BEGIN:VEVENT
DTSTART;TZID=Europe/London:20200302T200000
DTEND;TZID=Europe/London:20200302T213000
DTSTAMP:20260421T094833
CREATED:20191211T161330Z
LAST-MODIFIED:20191211T161330Z
UID:838-1583179200-1583184600@www.l-a-m.co.uk
SUMMARY:Social Meeting
DESCRIPTION:
URL:https://www.l-a-m.co.uk/calendar/social-meeting-5/
LOCATION:Nags Head\, Middle Rasen\, Lincolnshire\, LN8 3JU\, United Kingdom
END:VEVENT
BEGIN:VEVENT
DTSTART;TZID=Europe/London:20200226T193000
DTEND;TZID=Europe/London:20200226T213000
DTSTAMP:20260421T094833
CREATED:20191211T161234Z
LAST-MODIFIED:20191211T161234Z
UID:836-1582745400-1582752600@www.l-a-m.co.uk
SUMMARY:Observers meeting
DESCRIPTION:Meeting for Observers and those interested in becoming an Observer.
URL:https://www.l-a-m.co.uk/calendar/observers-meeting-23/
LOCATION:Emprocon Ltd\, Scothern Lane\, Langworth\, LN3 5BH\, United Kingdom
END:VEVENT
BEGIN:VEVENT
DTSTART;TZID=Europe/London:20200209T113000
DTEND;TZID=Europe/London:20200209T150000
DTSTAMP:20260421T094833
CREATED:20191211T161106Z
LAST-MODIFIED:20191211T161106Z
UID:834-1581247800-1581260400@www.l-a-m.co.uk
SUMMARY:Group Observed Ride
DESCRIPTION:Ride leaves at midday.
URL:https://www.l-a-m.co.uk/calendar/group-observed-ride-12/
LOCATION:Brigg Leisure Centre\, Scawby Rd\, Brigg\, Lincolnshire\, DN20 9JH\, United Kingdom
END:VEVENT
BEGIN:VEVENT
DTSTART;TZID=Europe/London:20200203T200000
DTEND;TZID=Europe/London:20200203T220000
DTSTAMP:20260421T094833
CREATED:20191211T160901Z
LAST-MODIFIED:20191211T160901Z
UID:832-1580760000-1580767200@www.l-a-m.co.uk
SUMMARY:Social Meeting
DESCRIPTION:
URL:https://www.l-a-m.co.uk/calendar/social-meeting-4/
LOCATION:Nags Head\, Middle Rasen\, Lincolnshire\, LN8 3JU\, United Kingdom
END:VEVENT
BEGIN:VEVENT
DTSTART;TZID=Europe/London:20190925T183000
DTEND;TZID=Europe/London:20190925T220000
DTSTAMP:20260421T094833
CREATED:20190610T155611Z
LAST-MODIFIED:20190610T155611Z
UID:815-1569436200-1569448800@www.l-a-m.co.uk
SUMMARY:Observer Meeting
DESCRIPTION:On bike training for Observers starting at different locations depending on lead Observer. Contact Jerry Neale (number on Committee Page) for details. \nMeeting is also for those wishing to become an Observer or find out more about it.
URL:https://www.l-a-m.co.uk/calendar/observer-meeting-8/
END:VEVENT
BEGIN:VEVENT
DTSTART;TZID=Europe/London:20190908T093000
DTEND;TZID=Europe/London:20190908T130000
DTSTAMP:20260421T094833
CREATED:20190610T155236Z
LAST-MODIFIED:20190610T155248Z
UID:812-1567935000-1567947600@www.l-a-m.co.uk
SUMMARY:Group Observed Ride
DESCRIPTION:
URL:https://www.l-a-m.co.uk/calendar/group-observer-ride-7/
LOCATION:Hartsholme Park\, Lincolnshire\, LN6 0EY\, United Kingdom
END:VEVENT
BEGIN:VEVENT
DTSTART;TZID=Europe/London:20190902T200000
DTEND;TZID=Europe/London:20190902T220000
DTSTAMP:20260421T094833
CREATED:20190610T155109Z
LAST-MODIFIED:20190610T155109Z
UID:810-1567454400-1567461600@www.l-a-m.co.uk
SUMMARY:Monthly Social Meeting
DESCRIPTION:This month we will be joined by Ady Crane and John Siddall from the Lincolnshire Road Safety Partnership who will give us an update on what the Partnership is up and answer your questions on any road safety related matters. \nThere will also be a pre meeting ride leaving at 1830hrs.
URL:https://www.l-a-m.co.uk/calendar/monthly-social-meeting-30/
LOCATION:Nags Head\, Middle Rasen\, Lincolnshire\, LN8 3JU\, United Kingdom
END:VEVENT
BEGIN:VEVENT
DTSTART;TZID=Europe/London:20190828T183000
DTEND;TZID=Europe/London:20190828T220000
DTSTAMP:20260421T094833
CREATED:20190610T154814Z
LAST-MODIFIED:20190610T154814Z
UID:808-1567017000-1567029600@www.l-a-m.co.uk
SUMMARY:Observer Meeting
DESCRIPTION:On bike training for Observers starting at different locations depending on lead Observer. Contact Jerry Neale (number on Committee Page) for details. \nMeeting is also for those wishing to become an Observer or find out more about it.
URL:https://www.l-a-m.co.uk/calendar/observer-meeting-7/
END:VEVENT
BEGIN:VEVENT
DTSTART;TZID=Europe/London:20190812T193000
DTEND;TZID=Europe/London:20190812T213000
DTSTAMP:20260421T094833
CREATED:20190610T154550Z
LAST-MODIFIED:20190610T154629Z
UID:806-1565638200-1565645400@www.l-a-m.co.uk
SUMMARY:Committee Meeting
DESCRIPTION:Starts at 1945hrs
URL:https://www.l-a-m.co.uk/calendar/committee-meeting-21/
LOCATION:Nags Head\, Middle Rasen\, Lincolnshire\, LN8 3JU\, United Kingdom
END:VEVENT
BEGIN:VEVENT
DTSTART;TZID=Europe/London:20190811T093000
DTEND;TZID=Europe/London:20190811T130000
DTSTAMP:20260421T094833
CREATED:20190610T154446Z
LAST-MODIFIED:20190610T154446Z
UID:804-1565515800-1565528400@www.l-a-m.co.uk
SUMMARY:Group Observer Ride
DESCRIPTION:This month from Willingham Woods leaving at 0930hrs. get there early for breakfast.
URL:https://www.l-a-m.co.uk/calendar/group-observer-ride-6/
LOCATION:Willingham Woods\, LN8 3RQ\, United Kingdom
END:VEVENT
BEGIN:VEVENT
DTSTART;TZID=Europe/London:20190805T200000
DTEND;TZID=Europe/London:20190805T213000
DTSTAMP:20260421T094833
CREATED:20190610T154234Z
LAST-MODIFIED:20190610T154234Z
UID:802-1565035200-1565040600@www.l-a-m.co.uk
SUMMARY:Monthly Social Meeting
DESCRIPTION:This month we will be joined by Peter Serhatlic who is our Area Service Delivery Manager but also the Northern Regional Service delivery Manager. If you have any questions for him please forward to Mick Smith or Simon Battram to pass on to him (he likes to be prepared) \nThere will also be a pre meeting ride leaving at 1830hrs.
URL:https://www.l-a-m.co.uk/calendar/monthly-social-meeting-29/
LOCATION:Nags Head\, Middle Rasen\, Lincolnshire\, LN8 3JU\, United Kingdom
END:VEVENT
END:VCALENDAR