BEGIN:VCALENDAR
VERSION:2.0
PRODID:-//Lincolnshire Advanced Motorcyclists - ECPv6.15.20//NONSGML v1.0//EN
CALSCALE:GREGORIAN
METHOD:PUBLISH
X-WR-CALNAME:Lincolnshire Advanced Motorcyclists
X-ORIGINAL-URL:https://www.l-a-m.co.uk
X-WR-CALDESC:Events for Lincolnshire Advanced Motorcyclists
REFRESH-INTERVAL;VALUE=DURATION:PT1H
X-Robots-Tag:noindex
X-PUBLISHED-TTL:PT1H
BEGIN:VTIMEZONE
TZID:Europe/London
BEGIN:DAYLIGHT
TZOFFSETFROM:+0000
TZOFFSETTO:+0100
TZNAME:BST
DTSTART:20180325T010000
END:DAYLIGHT
BEGIN:STANDARD
TZOFFSETFROM:+0100
TZOFFSETTO:+0000
TZNAME:GMT
DTSTART:20181028T010000
END:STANDARD
BEGIN:DAYLIGHT
TZOFFSETFROM:+0000
TZOFFSETTO:+0100
TZNAME:BST
DTSTART:20190331T010000
END:DAYLIGHT
BEGIN:STANDARD
TZOFFSETFROM:+0100
TZOFFSETTO:+0000
TZNAME:GMT
DTSTART:20191027T010000
END:STANDARD
BEGIN:DAYLIGHT
TZOFFSETFROM:+0000
TZOFFSETTO:+0100
TZNAME:BST
DTSTART:20200329T010000
END:DAYLIGHT
BEGIN:STANDARD
TZOFFSETFROM:+0100
TZOFFSETTO:+0000
TZNAME:GMT
DTSTART:20201025T010000
END:STANDARD
BEGIN:DAYLIGHT
TZOFFSETFROM:+0000
TZOFFSETTO:+0100
TZNAME:BST
DTSTART:20210328T010000
END:DAYLIGHT
BEGIN:STANDARD
TZOFFSETFROM:+0100
TZOFFSETTO:+0000
TZNAME:GMT
DTSTART:20211031T010000
END:STANDARD
END:VTIMEZONE
BEGIN:VEVENT
DTSTART;TZID=Europe/London:20200226T193000
DTEND;TZID=Europe/London:20200226T213000
DTSTAMP:20260419T142751
CREATED:20191211T161234Z
LAST-MODIFIED:20191211T161234Z
UID:836-1582745400-1582752600@www.l-a-m.co.uk
SUMMARY:Observers meeting
DESCRIPTION:Meeting for Observers and those interested in becoming an Observer.
URL:https://www.l-a-m.co.uk/calendar/observers-meeting-23/
LOCATION:Emprocon Ltd\, Scothern Lane\, Langworth\, LN3 5BH\, United Kingdom
END:VEVENT
BEGIN:VEVENT
DTSTART;TZID=Europe/London:20200209T113000
DTEND;TZID=Europe/London:20200209T150000
DTSTAMP:20260419T142751
CREATED:20191211T161106Z
LAST-MODIFIED:20191211T161106Z
UID:834-1581247800-1581260400@www.l-a-m.co.uk
SUMMARY:Group Observed Ride
DESCRIPTION:Ride leaves at midday.
URL:https://www.l-a-m.co.uk/calendar/group-observed-ride-12/
LOCATION:Brigg Leisure Centre\, Scawby Rd\, Brigg\, Lincolnshire\, DN20 9JH\, United Kingdom
END:VEVENT
BEGIN:VEVENT
DTSTART;TZID=Europe/London:20200203T200000
DTEND;TZID=Europe/London:20200203T220000
DTSTAMP:20260419T142751
CREATED:20191211T160901Z
LAST-MODIFIED:20191211T160901Z
UID:832-1580760000-1580767200@www.l-a-m.co.uk
SUMMARY:Social Meeting
DESCRIPTION:
URL:https://www.l-a-m.co.uk/calendar/social-meeting-4/
LOCATION:Nags Head\, Middle Rasen\, Lincolnshire\, LN8 3JU\, United Kingdom
END:VEVENT
BEGIN:VEVENT
DTSTART;TZID=Europe/London:20190925T183000
DTEND;TZID=Europe/London:20190925T220000
DTSTAMP:20260419T142751
CREATED:20190610T155611Z
LAST-MODIFIED:20190610T155611Z
UID:815-1569436200-1569448800@www.l-a-m.co.uk
SUMMARY:Observer Meeting
DESCRIPTION:On bike training for Observers starting at different locations depending on lead Observer. Contact Jerry Neale (number on Committee Page) for details. \nMeeting is also for those wishing to become an Observer or find out more about it.
URL:https://www.l-a-m.co.uk/calendar/observer-meeting-8/
END:VEVENT
BEGIN:VEVENT
DTSTART;TZID=Europe/London:20190908T093000
DTEND;TZID=Europe/London:20190908T130000
DTSTAMP:20260419T142751
CREATED:20190610T155236Z
LAST-MODIFIED:20190610T155248Z
UID:812-1567935000-1567947600@www.l-a-m.co.uk
SUMMARY:Group Observed Ride
DESCRIPTION:
URL:https://www.l-a-m.co.uk/calendar/group-observer-ride-7/
LOCATION:Hartsholme Park\, Lincolnshire\, LN6 0EY\, United Kingdom
END:VEVENT
BEGIN:VEVENT
DTSTART;TZID=Europe/London:20190902T200000
DTEND;TZID=Europe/London:20190902T220000
DTSTAMP:20260419T142751
CREATED:20190610T155109Z
LAST-MODIFIED:20190610T155109Z
UID:810-1567454400-1567461600@www.l-a-m.co.uk
SUMMARY:Monthly Social Meeting
DESCRIPTION:This month we will be joined by Ady Crane and John Siddall from the Lincolnshire Road Safety Partnership who will give us an update on what the Partnership is up and answer your questions on any road safety related matters. \nThere will also be a pre meeting ride leaving at 1830hrs.
URL:https://www.l-a-m.co.uk/calendar/monthly-social-meeting-30/
LOCATION:Nags Head\, Middle Rasen\, Lincolnshire\, LN8 3JU\, United Kingdom
END:VEVENT
BEGIN:VEVENT
DTSTART;TZID=Europe/London:20190828T183000
DTEND;TZID=Europe/London:20190828T220000
DTSTAMP:20260419T142751
CREATED:20190610T154814Z
LAST-MODIFIED:20190610T154814Z
UID:808-1567017000-1567029600@www.l-a-m.co.uk
SUMMARY:Observer Meeting
DESCRIPTION:On bike training for Observers starting at different locations depending on lead Observer. Contact Jerry Neale (number on Committee Page) for details. \nMeeting is also for those wishing to become an Observer or find out more about it.
URL:https://www.l-a-m.co.uk/calendar/observer-meeting-7/
END:VEVENT
BEGIN:VEVENT
DTSTART;TZID=Europe/London:20190812T193000
DTEND;TZID=Europe/London:20190812T213000
DTSTAMP:20260419T142751
CREATED:20190610T154550Z
LAST-MODIFIED:20190610T154629Z
UID:806-1565638200-1565645400@www.l-a-m.co.uk
SUMMARY:Committee Meeting
DESCRIPTION:Starts at 1945hrs
URL:https://www.l-a-m.co.uk/calendar/committee-meeting-21/
LOCATION:Nags Head\, Middle Rasen\, Lincolnshire\, LN8 3JU\, United Kingdom
END:VEVENT
BEGIN:VEVENT
DTSTART;TZID=Europe/London:20190811T093000
DTEND;TZID=Europe/London:20190811T130000
DTSTAMP:20260419T142751
CREATED:20190610T154446Z
LAST-MODIFIED:20190610T154446Z
UID:804-1565515800-1565528400@www.l-a-m.co.uk
SUMMARY:Group Observer Ride
DESCRIPTION:This month from Willingham Woods leaving at 0930hrs. get there early for breakfast.
URL:https://www.l-a-m.co.uk/calendar/group-observer-ride-6/
LOCATION:Willingham Woods\, LN8 3RQ\, United Kingdom
END:VEVENT
BEGIN:VEVENT
DTSTART;TZID=Europe/London:20190805T200000
DTEND;TZID=Europe/London:20190805T213000
DTSTAMP:20260419T142751
CREATED:20190610T154234Z
LAST-MODIFIED:20190610T154234Z
UID:802-1565035200-1565040600@www.l-a-m.co.uk
SUMMARY:Monthly Social Meeting
DESCRIPTION:This month we will be joined by Peter Serhatlic who is our Area Service Delivery Manager but also the Northern Regional Service delivery Manager. If you have any questions for him please forward to Mick Smith or Simon Battram to pass on to him (he likes to be prepared) \nThere will also be a pre meeting ride leaving at 1830hrs.
URL:https://www.l-a-m.co.uk/calendar/monthly-social-meeting-29/
LOCATION:Nags Head\, Middle Rasen\, Lincolnshire\, LN8 3JU\, United Kingdom
END:VEVENT
BEGIN:VEVENT
DTSTART;TZID=Europe/London:20190731T190000
DTEND;TZID=Europe/London:20190731T220000
DTSTAMP:20260419T142751
CREATED:20190505T184711Z
LAST-MODIFIED:20190505T184711Z
UID:761-1564599600-1564610400@www.l-a-m.co.uk
SUMMARY:Observer Meeting
DESCRIPTION:On bike training starting at different locations depending on lead Observer. Contact Jerry Neale (number on Committee Page) for details.
URL:https://www.l-a-m.co.uk/calendar/observer-meeting-6/
END:VEVENT
BEGIN:VEVENT
DTSTART;TZID=Europe/London:20190707T090000
DTEND;TZID=Europe/London:20190707T130000
DTSTAMP:20260419T142751
CREATED:20190505T184615Z
LAST-MODIFIED:20190505T184816Z
UID:759-1562490000-1562504400@www.l-a-m.co.uk
SUMMARY:Group Observed Ride
DESCRIPTION:Leaving promptly at 0930.
URL:https://www.l-a-m.co.uk/calendar/group-observer-ride-5/
LOCATION:Brigg Leisure Centre\, Scawby Rd\, Brigg\, Lincolnshire\, DN20 9JH\, United Kingdom
END:VEVENT
BEGIN:VEVENT
DTSTART;TZID=Europe/London:20190701T200000
DTEND;TZID=Europe/London:20190701T220000
DTSTAMP:20260419T142751
CREATED:20190505T184458Z
LAST-MODIFIED:20190505T184458Z
UID:757-1562011200-1562018400@www.l-a-m.co.uk
SUMMARY:Monthly Social Meeting
DESCRIPTION:Guest speaker this month is Marc Jones\, the Police and Crime Commissioner for Lincolnshire. \nRide out before the meeting\, meet at 1800hrs with meeting starting at 2000hrs.
URL:https://www.l-a-m.co.uk/calendar/monthly-social-meeting-28/
LOCATION:Nags Head\, Middle Rasen\, Lincolnshire\, LN8 3JU\, United Kingdom
END:VEVENT
BEGIN:VEVENT
DTSTART;TZID=Europe/London:20190626T190000
DTEND;TZID=Europe/London:20190626T220000
DTSTAMP:20260419T142751
CREATED:20190505T184242Z
LAST-MODIFIED:20190505T184242Z
UID:755-1561575600-1561586400@www.l-a-m.co.uk
SUMMARY:Observer Meeting
DESCRIPTION:On bike training starting at different locations depending on lead Observer. Contact Jerry Neale (number on Committee Page) for details.
URL:https://www.l-a-m.co.uk/calendar/observer-meeting-5/
END:VEVENT
BEGIN:VEVENT
DTSTART;TZID=Europe/London:20190609T093000
DTEND;TZID=Europe/London:20190609T130000
DTSTAMP:20260419T142751
CREATED:20190505T183815Z
LAST-MODIFIED:20190505T184843Z
UID:749-1560072600-1560085200@www.l-a-m.co.uk
SUMMARY:Group Observed Ride
DESCRIPTION:Leaving promptly at 0930hrs. Get there early if you want a brew. Meet in front of Cafe.
URL:https://www.l-a-m.co.uk/calendar/group-observer-ride-4/
LOCATION:Hartsholme Park\, Lincolnshire\, LN6 0EY\, United Kingdom
END:VEVENT
BEGIN:VEVENT
DTSTART;TZID=Europe/London:20190609T083000
DTEND;TZID=Europe/London:20190609T170000
DTSTAMP:20260419T142751
CREATED:20190505T184009Z
LAST-MODIFIED:20190505T184009Z
UID:751-1560069000-1560099600@www.l-a-m.co.uk
SUMMARY:Lincoln BikeFest
DESCRIPTION:Once gain we will be at the BikeFest. Help needed on the day especially to erect and dismantle the gazebo but also to talk to the punters during the day.
URL:https://www.l-a-m.co.uk/calendar/lincoln-bikefest-4/
LOCATION:Brayford Pool\, Lincoln
END:VEVENT
BEGIN:VEVENT
DTSTART;TZID=Europe/London:20190603T200000
DTEND;TZID=Europe/London:20190603T220000
DTSTAMP:20260419T142751
CREATED:20190505T183552Z
LAST-MODIFIED:20190505T183552Z
UID:747-1559592000-1559599200@www.l-a-m.co.uk
SUMMARY:Monthly Social Meeting
DESCRIPTION:Ride out before meeting. Meet at 1800hrs for ride\, meeting starts at 2000hrs.
URL:https://www.l-a-m.co.uk/calendar/monthly-social-meeting-27/
LOCATION:Nags Head\, Middle Rasen\, Lincolnshire\, LN8 3JU\, United Kingdom
END:VEVENT
BEGIN:VEVENT
DTSTART;TZID=Europe/London:20190601T100000
DTEND;TZID=Europe/London:20190601T160000
DTSTAMP:20260419T142751
CREATED:20190505T183128Z
LAST-MODIFIED:20190505T183128Z
UID:742-1559383200-1559404800@www.l-a-m.co.uk
SUMMARY:Taster Rides Day
DESCRIPTION:We have teamed up with Rob Speed Motorcycles in Grimsby to offer free taster rides. There will be other organisations in attendance.
URL:https://www.l-a-m.co.uk/calendar/taster-rides-day/
LOCATION:Rob Speed Motorcycles\, 368 Cleethorpes Rd\, Grimsby\, DN31 3DH
END:VEVENT
BEGIN:VEVENT
DTSTART;TZID=Europe/London:20190529T190000
DTEND;TZID=Europe/London:20190529T220000
DTSTAMP:20260419T142751
CREATED:20190505T182707Z
LAST-MODIFIED:20190505T182707Z
UID:740-1559156400-1559167200@www.l-a-m.co.uk
SUMMARY:Observer Meeting
DESCRIPTION:On bike training starting at different locations depending on lead Observer. Contact Jerry Neale (number on Committee Page) for details.
URL:https://www.l-a-m.co.uk/calendar/observer-meeting-4/
END:VEVENT
BEGIN:VEVENT
DTSTART;TZID=Europe/London:20190512T093000
DTEND;TZID=Europe/London:20190512T130000
DTSTAMP:20260419T142751
CREATED:20190505T182050Z
LAST-MODIFIED:20190505T182050Z
UID:738-1557653400-1557666000@www.l-a-m.co.uk
SUMMARY:Group Observed Ride
DESCRIPTION:Leaving promptly at 1000hrs\, be there earlier if you want a brew.
URL:https://www.l-a-m.co.uk/calendar/group-observed-ride-11/
LOCATION:Willingham Woods\, LN8 3RQ\, United Kingdom
END:VEVENT
BEGIN:VEVENT
DTSTART;TZID=Europe/London:20190506T200000
DTEND;TZID=Europe/London:20190506T220000
DTSTAMP:20260419T142751
CREATED:20190505T183425Z
LAST-MODIFIED:20190505T183425Z
UID:745-1557172800-1557180000@www.l-a-m.co.uk
SUMMARY:Monthly Social Meeting
DESCRIPTION:Ride out before meeting. Meet at 1800hrs for Ride\, meeting starts at 2000hrs.
URL:https://www.l-a-m.co.uk/calendar/monthly-social-meeting-26/
LOCATION:Nags Head\, Middle Rasen\, Lincolnshire\, LN8 3JU\, United Kingdom
END:VEVENT
BEGIN:VEVENT
DTSTART;TZID=Europe/London:20190505T073000
DTEND;TZID=Europe/London:20190505T210000
DTSTAMP:20260419T142751
CREATED:20190505T184116Z
LAST-MODIFIED:20190505T184116Z
UID:753-1557041400-1557090000@www.l-a-m.co.uk
SUMMARY:Committee Meeting
DESCRIPTION:Starts at 1945hrs.
URL:https://www.l-a-m.co.uk/calendar/committee-meeting-20/
LOCATION:Nags Head\, Middle Rasen\, Lincolnshire\, LN8 3JU\, United Kingdom
END:VEVENT
BEGIN:VEVENT
DTSTART;TZID=Europe/London:20190428T100000
DTEND;TZID=Europe/London:20190428T160000
DTSTAMP:20260419T142751
CREATED:20190411T191336Z
LAST-MODIFIED:20190411T191336Z
UID:732-1556445600-1556467200@www.l-a-m.co.uk
SUMMARY:Open Day - Free Taster Rides
DESCRIPTION:
URL:https://www.l-a-m.co.uk/calendar/open-day-free-taster-rides/
LOCATION:Waddington Airfield Viewing Enclosure\, A15\,  LN5 9FG  
END:VEVENT
BEGIN:VEVENT
DTSTART;TZID=Europe/London:20190424T200000
DTEND;TZID=Europe/London:20190424T220000
DTSTAMP:20260419T142751
CREATED:20190103T201434Z
LAST-MODIFIED:20190103T201919Z
UID:714-1556136000-1556143200@www.l-a-m.co.uk
SUMMARY:Observer Meeting
DESCRIPTION:Meeting for Observers and those interested in becoming an Observer.
URL:https://www.l-a-m.co.uk/calendar/observer-meeting-3/
LOCATION:Emprocon Ltd\, Scothern Lane\, Langworth\, LN3 5BH\, United Kingdom
END:VEVENT
BEGIN:VEVENT
DTSTART;TZID=Europe/London:20190408T200000
DTEND;TZID=Europe/London:20190408T213000
DTSTAMP:20260419T142751
CREATED:20190103T201310Z
LAST-MODIFIED:20190103T201310Z
UID:712-1554753600-1554759000@www.l-a-m.co.uk
SUMMARY:Committee Meeting
DESCRIPTION:
URL:https://www.l-a-m.co.uk/calendar/committee-meeting-19/
LOCATION:Nags Head\, Middle Rasen\, Lincolnshire\, LN8 3JU\, United Kingdom
END:VEVENT
BEGIN:VEVENT
DTSTART;TZID=Europe/London:20190407T100000
DTEND;TZID=Europe/London:20190407T130000
DTSTAMP:20260419T142751
CREATED:20190103T201018Z
LAST-MODIFIED:20190103T201018Z
UID:708-1554631200-1554642000@www.l-a-m.co.uk
SUMMARY:Group Observed Ride
DESCRIPTION:The Sunday morning Group Observed Runs are open to all members and also potential members who may be considering preparing for the IAM test.\nThe prime purpose is to provide the opportunity to hone /improve skills through riding with fellow members.\nPotential members considering taking the IAM test may have an individual assessment ride.\nRuns last usually around two hours\, often with a mid-point refreshment stop.\nDepending on numbers / balance etc.\, it is customary for different groupings to embark on a run style of their choice as they feel fit.\nThe main purpose is to have the opportunity to ride with fellow like-minded bikers. \nLeaving at 1000hrs prompt!
URL:https://www.l-a-m.co.uk/calendar/group-observed-ride-10/
LOCATION:Brigg Leisure Centre\, Scawby Rd\, Brigg\, Lincolnshire\, DN20 9JH\, United Kingdom
END:VEVENT
BEGIN:VEVENT
DTSTART;TZID=Europe/London:20190401T200000
DTEND;TZID=Europe/London:20190401T220000
DTSTAMP:20260419T142751
CREATED:20190103T200659Z
LAST-MODIFIED:20190103T200659Z
UID:706-1554148800-1554156000@www.l-a-m.co.uk
SUMMARY:Monthly Social Meeting
DESCRIPTION:
URL:https://www.l-a-m.co.uk/calendar/monthly-social-meeting-25/
LOCATION:Nags Head\, Middle Rasen\, Lincolnshire\, LN8 3JU\, United Kingdom
END:VEVENT
BEGIN:VEVENT
DTSTART;TZID=Europe/London:20190327T200000
DTEND;TZID=Europe/London:20190327T220000
DTSTAMP:20260419T142751
CREATED:20190103T200406Z
LAST-MODIFIED:20190103T200406Z
UID:704-1553716800-1553724000@www.l-a-m.co.uk
SUMMARY:Observer Meeting
DESCRIPTION:Meeting for Observers and those interested in becoming an Observer.
URL:https://www.l-a-m.co.uk/calendar/observer-meeting-2/
LOCATION:Emprocon Ltd\, Scothern Lane\, Langworth\, LN3 5BH\, United Kingdom
END:VEVENT
BEGIN:VEVENT
DTSTART;TZID=Europe/London:20190310T100000
DTEND;TZID=Europe/London:20190310T130000
DTSTAMP:20260419T142751
CREATED:20190103T200258Z
LAST-MODIFIED:20190103T201102Z
UID:702-1552212000-1552222800@www.l-a-m.co.uk
SUMMARY:Group Observed Ride
DESCRIPTION:Earlier start this month as Spring is looming\, prompt start at 1000hrs so get there early if you breakfast in the Cafe. \nThe Sunday morning Group Observed Runs are open to all members and also potential members who may be considering preparing for the IAM test.\nThe prime purpose is to provide the opportunity to hone /improve skills through riding with fellow members.\nPotential members considering taking the IAM test may have an individual assessment ride.\nRuns last usually around two hours\, often with a mid-point refreshment stop.\nDepending on numbers / balance etc.\, it is customary for different groupings to embark on a run style of their choice as they feel fit.\nThe main purpose is to have the opportunity to ride with fellow like-minded bikers.
URL:https://www.l-a-m.co.uk/calendar/group-observed-ride-9/
LOCATION:Hartsholme Park\, Lincolnshire\, LN6 0EY\, United Kingdom
END:VEVENT
BEGIN:VEVENT
DTSTART;TZID=Europe/London:20190304T200000
DTEND;TZID=Europe/London:20190304T220000
DTSTAMP:20260419T142751
CREATED:20190103T200112Z
LAST-MODIFIED:20190103T200112Z
UID:700-1551729600-1551736800@www.l-a-m.co.uk
SUMMARY:Monthly Social Meeting
DESCRIPTION:
URL:https://www.l-a-m.co.uk/calendar/monthly-social-meeting-24/
LOCATION:Nags Head\, Middle Rasen\, Lincolnshire\, LN8 3JU\, United Kingdom
END:VEVENT
END:VCALENDAR