BEGIN:VCALENDAR
VERSION:2.0
PRODID:-//Lincolnshire Advanced Motorcyclists - ECPv6.15.20//NONSGML v1.0//EN
CALSCALE:GREGORIAN
METHOD:PUBLISH
X-WR-CALNAME:Lincolnshire Advanced Motorcyclists
X-ORIGINAL-URL:https://www.l-a-m.co.uk
X-WR-CALDESC:Events for Lincolnshire Advanced Motorcyclists
REFRESH-INTERVAL;VALUE=DURATION:PT1H
X-Robots-Tag:noindex
X-PUBLISHED-TTL:PT1H
BEGIN:VTIMEZONE
TZID:Europe/London
BEGIN:DAYLIGHT
TZOFFSETFROM:+0000
TZOFFSETTO:+0100
TZNAME:BST
DTSTART:20170326T010000
END:DAYLIGHT
BEGIN:STANDARD
TZOFFSETFROM:+0100
TZOFFSETTO:+0000
TZNAME:GMT
DTSTART:20171029T010000
END:STANDARD
BEGIN:DAYLIGHT
TZOFFSETFROM:+0000
TZOFFSETTO:+0100
TZNAME:BST
DTSTART:20180325T010000
END:DAYLIGHT
BEGIN:STANDARD
TZOFFSETFROM:+0100
TZOFFSETTO:+0000
TZNAME:GMT
DTSTART:20181028T010000
END:STANDARD
BEGIN:DAYLIGHT
TZOFFSETFROM:+0000
TZOFFSETTO:+0100
TZNAME:BST
DTSTART:20190331T010000
END:DAYLIGHT
BEGIN:STANDARD
TZOFFSETFROM:+0100
TZOFFSETTO:+0000
TZNAME:GMT
DTSTART:20191027T010000
END:STANDARD
BEGIN:DAYLIGHT
TZOFFSETFROM:+0000
TZOFFSETTO:+0100
TZNAME:BST
DTSTART:20200329T010000
END:DAYLIGHT
BEGIN:STANDARD
TZOFFSETFROM:+0100
TZOFFSETTO:+0000
TZNAME:GMT
DTSTART:20201025T010000
END:STANDARD
END:VTIMEZONE
BEGIN:VEVENT
DTSTART;TZID=Europe/London:20190506T200000
DTEND;TZID=Europe/London:20190506T220000
DTSTAMP:20260419T175555
CREATED:20190505T183425Z
LAST-MODIFIED:20190505T183425Z
UID:745-1557172800-1557180000@www.l-a-m.co.uk
SUMMARY:Monthly Social Meeting
DESCRIPTION:Ride out before meeting. Meet at 1800hrs for Ride\, meeting starts at 2000hrs.
URL:https://www.l-a-m.co.uk/calendar/monthly-social-meeting-26/
LOCATION:Nags Head\, Middle Rasen\, Lincolnshire\, LN8 3JU\, United Kingdom
END:VEVENT
BEGIN:VEVENT
DTSTART;TZID=Europe/London:20190505T073000
DTEND;TZID=Europe/London:20190505T210000
DTSTAMP:20260419T175555
CREATED:20190505T184116Z
LAST-MODIFIED:20190505T184116Z
UID:753-1557041400-1557090000@www.l-a-m.co.uk
SUMMARY:Committee Meeting
DESCRIPTION:Starts at 1945hrs.
URL:https://www.l-a-m.co.uk/calendar/committee-meeting-20/
LOCATION:Nags Head\, Middle Rasen\, Lincolnshire\, LN8 3JU\, United Kingdom
END:VEVENT
BEGIN:VEVENT
DTSTART;TZID=Europe/London:20190428T100000
DTEND;TZID=Europe/London:20190428T160000
DTSTAMP:20260419T175555
CREATED:20190411T191336Z
LAST-MODIFIED:20190411T191336Z
UID:732-1556445600-1556467200@www.l-a-m.co.uk
SUMMARY:Open Day - Free Taster Rides
DESCRIPTION:
URL:https://www.l-a-m.co.uk/calendar/open-day-free-taster-rides/
LOCATION:Waddington Airfield Viewing Enclosure\, A15\,  LN5 9FG  
END:VEVENT
BEGIN:VEVENT
DTSTART;TZID=Europe/London:20190424T200000
DTEND;TZID=Europe/London:20190424T220000
DTSTAMP:20260419T175555
CREATED:20190103T201434Z
LAST-MODIFIED:20190103T201919Z
UID:714-1556136000-1556143200@www.l-a-m.co.uk
SUMMARY:Observer Meeting
DESCRIPTION:Meeting for Observers and those interested in becoming an Observer.
URL:https://www.l-a-m.co.uk/calendar/observer-meeting-3/
LOCATION:Emprocon Ltd\, Scothern Lane\, Langworth\, LN3 5BH\, United Kingdom
END:VEVENT
BEGIN:VEVENT
DTSTART;TZID=Europe/London:20190408T200000
DTEND;TZID=Europe/London:20190408T213000
DTSTAMP:20260419T175555
CREATED:20190103T201310Z
LAST-MODIFIED:20190103T201310Z
UID:712-1554753600-1554759000@www.l-a-m.co.uk
SUMMARY:Committee Meeting
DESCRIPTION:
URL:https://www.l-a-m.co.uk/calendar/committee-meeting-19/
LOCATION:Nags Head\, Middle Rasen\, Lincolnshire\, LN8 3JU\, United Kingdom
END:VEVENT
BEGIN:VEVENT
DTSTART;TZID=Europe/London:20190407T100000
DTEND;TZID=Europe/London:20190407T130000
DTSTAMP:20260419T175555
CREATED:20190103T201018Z
LAST-MODIFIED:20190103T201018Z
UID:708-1554631200-1554642000@www.l-a-m.co.uk
SUMMARY:Group Observed Ride
DESCRIPTION:The Sunday morning Group Observed Runs are open to all members and also potential members who may be considering preparing for the IAM test.\nThe prime purpose is to provide the opportunity to hone /improve skills through riding with fellow members.\nPotential members considering taking the IAM test may have an individual assessment ride.\nRuns last usually around two hours\, often with a mid-point refreshment stop.\nDepending on numbers / balance etc.\, it is customary for different groupings to embark on a run style of their choice as they feel fit.\nThe main purpose is to have the opportunity to ride with fellow like-minded bikers. \nLeaving at 1000hrs prompt!
URL:https://www.l-a-m.co.uk/calendar/group-observed-ride-10/
LOCATION:Brigg Leisure Centre\, Scawby Rd\, Brigg\, Lincolnshire\, DN20 9JH\, United Kingdom
END:VEVENT
BEGIN:VEVENT
DTSTART;TZID=Europe/London:20190401T200000
DTEND;TZID=Europe/London:20190401T220000
DTSTAMP:20260419T175555
CREATED:20190103T200659Z
LAST-MODIFIED:20190103T200659Z
UID:706-1554148800-1554156000@www.l-a-m.co.uk
SUMMARY:Monthly Social Meeting
DESCRIPTION:
URL:https://www.l-a-m.co.uk/calendar/monthly-social-meeting-25/
LOCATION:Nags Head\, Middle Rasen\, Lincolnshire\, LN8 3JU\, United Kingdom
END:VEVENT
BEGIN:VEVENT
DTSTART;TZID=Europe/London:20190327T200000
DTEND;TZID=Europe/London:20190327T220000
DTSTAMP:20260419T175555
CREATED:20190103T200406Z
LAST-MODIFIED:20190103T200406Z
UID:704-1553716800-1553724000@www.l-a-m.co.uk
SUMMARY:Observer Meeting
DESCRIPTION:Meeting for Observers and those interested in becoming an Observer.
URL:https://www.l-a-m.co.uk/calendar/observer-meeting-2/
LOCATION:Emprocon Ltd\, Scothern Lane\, Langworth\, LN3 5BH\, United Kingdom
END:VEVENT
BEGIN:VEVENT
DTSTART;TZID=Europe/London:20190310T100000
DTEND;TZID=Europe/London:20190310T130000
DTSTAMP:20260419T175555
CREATED:20190103T200258Z
LAST-MODIFIED:20190103T201102Z
UID:702-1552212000-1552222800@www.l-a-m.co.uk
SUMMARY:Group Observed Ride
DESCRIPTION:Earlier start this month as Spring is looming\, prompt start at 1000hrs so get there early if you breakfast in the Cafe. \nThe Sunday morning Group Observed Runs are open to all members and also potential members who may be considering preparing for the IAM test.\nThe prime purpose is to provide the opportunity to hone /improve skills through riding with fellow members.\nPotential members considering taking the IAM test may have an individual assessment ride.\nRuns last usually around two hours\, often with a mid-point refreshment stop.\nDepending on numbers / balance etc.\, it is customary for different groupings to embark on a run style of their choice as they feel fit.\nThe main purpose is to have the opportunity to ride with fellow like-minded bikers.
URL:https://www.l-a-m.co.uk/calendar/group-observed-ride-9/
LOCATION:Hartsholme Park\, Lincolnshire\, LN6 0EY\, United Kingdom
END:VEVENT
BEGIN:VEVENT
DTSTART;TZID=Europe/London:20190304T200000
DTEND;TZID=Europe/London:20190304T220000
DTSTAMP:20260419T175555
CREATED:20190103T200112Z
LAST-MODIFIED:20190103T200112Z
UID:700-1551729600-1551736800@www.l-a-m.co.uk
SUMMARY:Monthly Social Meeting
DESCRIPTION:
URL:https://www.l-a-m.co.uk/calendar/monthly-social-meeting-24/
LOCATION:Nags Head\, Middle Rasen\, Lincolnshire\, LN8 3JU\, United Kingdom
END:VEVENT
BEGIN:VEVENT
DTSTART;TZID=Europe/London:20190227T200000
DTEND;TZID=Europe/London:20190227T220000
DTSTAMP:20260419T175555
CREATED:20190103T195835Z
LAST-MODIFIED:20190103T195835Z
UID:696-1551297600-1551304800@www.l-a-m.co.uk
SUMMARY:Observer Meeting
DESCRIPTION:Meeting for Observers and those interested in becoming an Observer. \nThis month we have the three examiners that cover tests in our area attending so you can quiz them about what they are looking for on tests.
URL:https://www.l-a-m.co.uk/calendar/observer-meeting/
LOCATION:Emprocon Ltd\, Scothern Lane\, Langworth\, LN3 5BH\, United Kingdom
END:VEVENT
BEGIN:VEVENT
DTSTART;TZID=Europe/London:20190218T193000
DTEND;TZID=Europe/London:20190218T210000
DTSTAMP:20260419T175555
CREATED:20190103T200007Z
LAST-MODIFIED:20190103T200007Z
UID:698-1550518200-1550523600@www.l-a-m.co.uk
SUMMARY:Committee Meeting
DESCRIPTION:
URL:https://www.l-a-m.co.uk/calendar/committee-meeting-18/
LOCATION:Nags Head\, Middle Rasen\, Lincolnshire\, LN8 3JU\, United Kingdom
END:VEVENT
BEGIN:VEVENT
DTSTART;TZID=Europe/London:20190210T120000
DTEND;TZID=Europe/London:20190210T150000
DTSTAMP:20260419T175555
CREATED:20190103T195427Z
LAST-MODIFIED:20190103T201139Z
UID:694-1549800000-1549810800@www.l-a-m.co.uk
SUMMARY:Group Observed Ride
DESCRIPTION:Willingham Woods this month leaving promptly at Midday. Get there early if you want a brew first. \nThe Sunday morning Group Observed Runs are open to all members and also potential members who may be considering preparing for the IAM test.\nThe prime purpose is to provide the opportunity to hone /improve skills through riding with fellow members.\nPotential members considering taking the IAM test may have an individual assessment ride.\nRuns last usually around two hours\, often with a mid-point refreshment stop.\nDepending on numbers / balance etc.\, it is customary for different groupings to embark on a run style of their choice as they feel fit.\nThe main purpose is to have the opportunity to ride with fellow like-minded bikers.
URL:https://www.l-a-m.co.uk/calendar/group-observed-ride-8/
LOCATION:Willingham Woods\, LN8 3RQ\, United Kingdom
END:VEVENT
BEGIN:VEVENT
DTSTART;TZID=Europe/London:20190204T200000
DTEND;TZID=Europe/London:20190204T220000
DTSTAMP:20260419T175555
CREATED:20190103T193417Z
LAST-MODIFIED:20190103T193417Z
UID:689-1549310400-1549317600@www.l-a-m.co.uk
SUMMARY:Monthly Social Meeting
DESCRIPTION:A grand start to the social meeting season. Mr David Hall is going to give a talk and projector show. David will be talking about his rides abroad and sharing his enthusiasm for these trips.
URL:https://www.l-a-m.co.uk/calendar/monthly-social-meeting-23/
LOCATION:Nags Head\, Middle Rasen\, Lincolnshire\, LN8 3JU\, United Kingdom
END:VEVENT
BEGIN:VEVENT
DTSTART;TZID=Europe/London:20181209T120000
DTEND;TZID=Europe/London:20181209T150000
DTSTAMP:20260419T175555
CREATED:20181126T190850Z
LAST-MODIFIED:20181126T190850Z
UID:683-1544356800-1544367600@www.l-a-m.co.uk
SUMMARY:Group Observer Ride
DESCRIPTION:Last Group ride of the year so a little later in case of the weather! Leaving promptly at midday so get there a little earlier.
URL:https://www.l-a-m.co.uk/calendar/group-observer-ride-3/
LOCATION:Brigg Leisure Centre\, Scawby Rd\, Brigg\, Lincolnshire\, DN20 9JH\, United Kingdom
END:VEVENT
BEGIN:VEVENT
DTSTART;TZID=Europe/London:20181203T200000
DTEND;TZID=Europe/London:20181203T220000
DTSTAMP:20260419T175555
CREATED:20181126T190641Z
LAST-MODIFIED:20181126T190641Z
UID:681-1543867200-1543874400@www.l-a-m.co.uk
SUMMARY:Monthly Social Meeting
DESCRIPTION:As it’s nearly Christmas we will be having a short fun quiz\, raffle and buffet.
URL:https://www.l-a-m.co.uk/calendar/monthly-social-meeting-22/
LOCATION:Nags Head\, Middle Rasen\, Lincolnshire\, LN8 3JU\, United Kingdom
END:VEVENT
BEGIN:VEVENT
DTSTART;TZID=Europe/London:20181128T200000
DTEND;TZID=Europe/London:20181128T213000
DTSTAMP:20260419T175555
CREATED:20181126T190432Z
LAST-MODIFIED:20181126T190432Z
UID:679-1543435200-1543440600@www.l-a-m.co.uk
SUMMARY:Observers Meeting
DESCRIPTION:Meeting for Observers and those interested in becoming Observers.
URL:https://www.l-a-m.co.uk/calendar/observers-meeting-22/
LOCATION:Emprocon Ltd\, Scothern Lane\, Langworth\, LN3 5BH\, United Kingdom
END:VEVENT
BEGIN:VEVENT
DTSTART;TZID=Europe/London:20181024T200000
DTEND;TZID=Europe/London:20181024T220000
DTSTAMP:20260419T175555
CREATED:20180625T125809Z
LAST-MODIFIED:20180625T125809Z
UID:650-1540411200-1540418400@www.l-a-m.co.uk
SUMMARY:Barrie Heath Quiz
DESCRIPTION:We are ‘hosting’ this year as we won last year’s quiz. It will be held in Scunthorpe at the Redbourn Club which is the Scuntorpe car group meeting venue.
URL:https://www.l-a-m.co.uk/calendar/barrie-heath-quiz-4/
LOCATION:Redbourne Club\, Cemetary Road\, Scunthorpe
END:VEVENT
BEGIN:VEVENT
DTSTART;TZID=Europe/London:20181008T193000
DTEND;TZID=Europe/London:20181008T210000
DTSTAMP:20260419T175555
CREATED:20180625T125908Z
LAST-MODIFIED:20180625T125908Z
UID:652-1539027000-1539032400@www.l-a-m.co.uk
SUMMARY:Committee Meeting
DESCRIPTION:
URL:https://www.l-a-m.co.uk/calendar/committee-meeting-17/
LOCATION:Nags Head\, Middle Rasen\, Lincolnshire\, LN8 3JU\, United Kingdom
END:VEVENT
BEGIN:VEVENT
DTSTART;TZID=Europe/London:20180926T200000
DTEND;TZID=Europe/London:20180926T213000
DTSTAMP:20260419T175555
CREATED:20180625T131041Z
LAST-MODIFIED:20180625T131041Z
UID:658-1537992000-1537997400@www.l-a-m.co.uk
SUMMARY:Observers Meeting
DESCRIPTION:Meeting for Observers and those interested in becoming Observers.
URL:https://www.l-a-m.co.uk/calendar/observers-meeting-21/
LOCATION:Emprocon Ltd\, Scothern Lane\, Langworth\, LN3 5BH\, United Kingdom
END:VEVENT
BEGIN:VEVENT
DTSTART;TZID=Europe/London:20180909T080000
DTEND;TZID=Europe/London:20180909T170000
DTSTAMP:20260419T175555
CREATED:20180625T130508Z
LAST-MODIFIED:20180625T130508Z
UID:656-1536480000-1536512400@www.l-a-m.co.uk
SUMMARY:Group Ride Out
DESCRIPTION:Join us for our monthly ride out. Leaves promptly at 0930 so get there early.
URL:https://www.l-a-m.co.uk/calendar/group-ride-out-3/
LOCATION:Brigg Leisure Centre\, Scawby Rd\, Brigg\, Lincolnshire\, DN20 9JH\, United Kingdom
END:VEVENT
BEGIN:VEVENT
DTSTART;TZID=Europe/London:20180903T200000
DTEND;TZID=Europe/London:20180903T213000
DTSTAMP:20260419T175555
CREATED:20180625T130050Z
LAST-MODIFIED:20180625T131207Z
UID:654-1536004800-1536010200@www.l-a-m.co.uk
SUMMARY:Monthly Social Meeting
DESCRIPTION:Join us for our monthly social get together. During the summer months this is preceded by a ride out for those that fancy it. Be at the Nags Head for 1800 if you plan to join the ride.
URL:https://www.l-a-m.co.uk/calendar/monthly-social-meeting-21/
LOCATION:Nags Head\, Middle Rasen\, Lincolnshire\, LN8 3JU\, United Kingdom
END:VEVENT
BEGIN:VEVENT
DTSTART;TZID=Europe/London:20180829T193000
DTEND;TZID=Europe/London:20180829T213000
DTSTAMP:20260419T175555
CREATED:20180625T125500Z
LAST-MODIFIED:20180625T125500Z
UID:646-1535571000-1535578200@www.l-a-m.co.uk
SUMMARY:Observers meeting
DESCRIPTION:Meeting for Observers and those interested in becoming Observers. \nDuring the Summer months each Observer team does there own thing and the 3 teams then meet up at an agreed location. For more information contact Jerry Neale on 07412 925333.
URL:https://www.l-a-m.co.uk/calendar/observers-meeting-20/
END:VEVENT
BEGIN:VEVENT
DTSTART;TZID=Europe/London:20180813T073000
DTEND;TZID=Europe/London:20180813T210000
DTSTAMP:20260419T175555
CREATED:20180625T125601Z
LAST-MODIFIED:20180625T130240Z
UID:648-1534145400-1534194000@www.l-a-m.co.uk
SUMMARY:Committee Meeting
DESCRIPTION:
URL:https://www.l-a-m.co.uk/calendar/committee-meeting-16/
LOCATION:Nags Head\, Middle Rasen\, Lincolnshire\, LN8 3JU\, United Kingdom
END:VEVENT
BEGIN:VEVENT
DTSTART;TZID=Europe/London:20180812T090000
DTEND;TZID=Europe/London:20180812T130000
DTSTAMP:20260419T175555
CREATED:20180625T124634Z
LAST-MODIFIED:20180625T124634Z
UID:642-1534064400-1534078800@www.l-a-m.co.uk
SUMMARY:Group Ride Out
DESCRIPTION:Join us for our monthly ride out. Leaves promptly at 0930 so get there early for brekkie.
URL:https://www.l-a-m.co.uk/calendar/group-ride-out-2/
LOCATION:Hartsholme Park\, Lincolnshire\, LN6 0EY\, United Kingdom
END:VEVENT
BEGIN:VEVENT
DTSTART;TZID=Europe/London:20180806T200000
DTEND;TZID=Europe/London:20180806T213000
DTSTAMP:20260419T175555
CREATED:20180625T124220Z
LAST-MODIFIED:20180625T124220Z
UID:638-1533585600-1533591000@www.l-a-m.co.uk
SUMMARY:Monthly Social Meeting
DESCRIPTION:Join us for our monthly social get together. During the summer months this is preceded by a ride out for those that fancy it. Be at the Nags Head for 1800 if you plan to join the ride.
URL:https://www.l-a-m.co.uk/calendar/monthly-social-meeting-20/
LOCATION:Nags Head\, Middle Rasen\, Lincolnshire\, LN8 3JU\, United Kingdom
END:VEVENT
BEGIN:VEVENT
DTSTART;TZID=Europe/London:20180725T193000
DTEND;TZID=Europe/London:20180725T213000
DTSTAMP:20260419T175555
CREATED:20180625T125046Z
LAST-MODIFIED:20180625T125129Z
UID:644-1532547000-1532554200@www.l-a-m.co.uk
SUMMARY:Observers Meeting
DESCRIPTION:Meeting for Observers and those interested in becoming Observers. \nDuring the Summer months each Observer team does there own thing and the 3 teams then meet up at an agreed location. For more information contact Jerry Neale on 07412 925333.
URL:https://www.l-a-m.co.uk/calendar/observers-meeting-19/
END:VEVENT
BEGIN:VEVENT
DTSTART;TZID=Europe/London:20180708T090000
DTEND;TZID=Europe/London:20180708T130000
DTSTAMP:20260419T175555
CREATED:20180625T124515Z
LAST-MODIFIED:20180625T124515Z
UID:640-1531040400-1531054800@www.l-a-m.co.uk
SUMMARY:Group Ride Out
DESCRIPTION:Join us for our monthly ride out. Leaves promptly at 0930 so get there early for brekkie.
URL:https://www.l-a-m.co.uk/calendar/group-ride-out/
LOCATION:Willingham Woods\, LN8 3RQ\, United Kingdom
END:VEVENT
BEGIN:VEVENT
DTSTART;TZID=Europe/London:20180702T200000
DTEND;TZID=Europe/London:20180702T213000
DTSTAMP:20260419T175555
CREATED:20180625T124107Z
LAST-MODIFIED:20180625T124107Z
UID:636-1530561600-1530567000@www.l-a-m.co.uk
SUMMARY:Monthly Social Meeting
DESCRIPTION:Join us for our monthly social get together. During the summer months this is preceded by a ride out for those that fancy it. Be at the Nags Head for 1800 if you plan to join the ride.
URL:https://www.l-a-m.co.uk/calendar/monthly-social-meeting-19/
LOCATION:Nags Head\, Middle Rasen\, Lincolnshire\, LN8 3JU\, United Kingdom
END:VEVENT
BEGIN:VEVENT
DTSTART;TZID=Europe/London:20180630T194500
DTEND;TZID=Europe/London:20180630T213000
DTSTAMP:20260419T175555
CREATED:20180110T203711Z
LAST-MODIFIED:20180110T203711Z
UID:597-1530387900-1530394200@www.l-a-m.co.uk
SUMMARY:Observers Meeting
DESCRIPTION:Meeting for Observers and those interested in becoming an Observer. For Observer information contact Jerry Neale on 07412 935333. 
URL:https://www.l-a-m.co.uk/calendar/observers-meeting-18/
LOCATION:LK2\, Deepdale Enterprise Park\, Nettleham\, LN2 2LL
END:VEVENT
END:VCALENDAR